BEGIN:VCALENDAR
VERSION:2.0
PRODID:-//Springs RV Resort - ECPv6.15.15//NONSGML v1.0//EN
CALSCALE:GREGORIAN
METHOD:PUBLISH
X-WR-CALNAME:Springs RV Resort
X-ORIGINAL-URL:https://springsrv.com
X-WR-CALDESC:Events for Springs RV Resort
REFRESH-INTERVAL;VALUE=DURATION:PT1H
X-Robots-Tag:noindex
X-PUBLISHED-TTL:PT1H
BEGIN:VTIMEZONE
TZID:America/Vancouver
BEGIN:DAYLIGHT
TZOFFSETFROM:-0800
TZOFFSETTO:-0700
TZNAME:PDT
DTSTART:20250309T100000
END:DAYLIGHT
BEGIN:STANDARD
TZOFFSETFROM:-0700
TZOFFSETTO:-0800
TZNAME:PST
DTSTART:20251102T090000
END:STANDARD
BEGIN:DAYLIGHT
TZOFFSETFROM:-0800
TZOFFSETTO:-0700
TZNAME:PDT
DTSTART:20260308T100000
END:DAYLIGHT
BEGIN:STANDARD
TZOFFSETFROM:-0700
TZOFFSETTO:-0800
TZNAME:PST
DTSTART:20261101T090000
END:STANDARD
BEGIN:DAYLIGHT
TZOFFSETFROM:-0800
TZOFFSETTO:-0700
TZNAME:PDT
DTSTART:20270314T100000
END:DAYLIGHT
BEGIN:STANDARD
TZOFFSETFROM:-0700
TZOFFSETTO:-0800
TZNAME:PST
DTSTART:20271107T090000
END:STANDARD
END:VTIMEZONE
BEGIN:VEVENT
DTSTART;TZID=America/Vancouver:20260516T080000
DTEND;TZID=America/Vancouver:20260516T130000
DTSTAMP:20260425T052025
CREATED:20260401T202246Z
LAST-MODIFIED:20260401T202439Z
UID:11119-1778918400-1778936400@springsrv.com
SUMMARY:360 Coffee Point Cafe Food Truck
DESCRIPTION:We’re excited to welcome 360 Coffee Point Café to the Springs!\nStart your day right with your favourite morning pick-me-up—whether it’s a fresh coffee\, a sweet treat\, a quick breakfast bite\, or a refreshing blended drink. \nEvent Details:\nDate: May 16th\, July 4th\, August 1st Time: 8:00 am – 1:00 pmLocation: Coffee Truck on site\nMenu: Fresh brewed coffee\, specialty drinks\, breakfast snacks\, sweet treats\, and blended beverages \nSwing by\, grab a drink\, and enjoy a relaxed morning at the resort. It’s the perfect way to fuel up before a day of summer fun!\nWe look forward to seeing you there!
URL:https://springsrv.com/event/360-coffee-point-cafe-at-the-springs-2/
LOCATION:Office\, 670 Hot Springs Road\, Harrison Hot Springs\, BC\, V0M 1K0\, Canada
ATTACH;FMTTYPE=image/png:https://springsrv.com/wp-content/uploads/2026/04/Screenshot-2026-04-01-at-1.16.42-PM.png
END:VEVENT
BEGIN:VEVENT
DTSTART;TZID=America/Vancouver:20260516T140000
DTEND;TZID=America/Vancouver:20260516T180000
DTSTAMP:20260425T052025
CREATED:20260401T200952Z
LAST-MODIFIED:20260401T201033Z
UID:11114-1778940000-1778954400@springsrv.com
SUMMARY:May Long Food Truck Party!
DESCRIPTION:We’re excited to kick off the season with our May Long Weekend Welcome Food Truck Party!\nJoin us on Saturday\, May 16th for an afternoon of great food\, music\, and community as we celebrate the start of another amazing season at the Springs. \nEvent Details:\nDate: Saturday\, May 16thTime: 2:00 pm – 6:00 pmEntertainment: Music by DJ Joe MoneyTreats: Ice cream & popsicles (free!)Food: Food trucks on site (available for purchase) \nThis event is open to all owners and their guests—bring your friends\, grab a bite\, and enjoy a fun afternoon together. \nThe fun doesn’t stop there!\nDJ Joe Money will keep the energy going into the evening with our May Long Community Dance:\nTime: 7:00 pm – 11:00 pmLocation: Social Pavilion \nWe look forward to celebrating the long weekend with you!
URL:https://springsrv.com/event/may-long-food-truck-party/
LOCATION:British Columbia
ATTACH;FMTTYPE=image/png:https://springsrv.com/wp-content/uploads/2026/03/Screenshot-2026-03-31-at-11.29.23-AM.png
END:VEVENT
END:VCALENDAR