BEGIN:VCALENDAR
VERSION:2.0
PRODID:-//Springs RV Resort - ECPv6.15.15//NONSGML v1.0//EN
CALSCALE:GREGORIAN
METHOD:PUBLISH
X-WR-CALNAME:Springs RV Resort
X-ORIGINAL-URL:https://springsrv.com
X-WR-CALDESC:Events for Springs RV Resort
REFRESH-INTERVAL;VALUE=DURATION:PT1H
X-Robots-Tag:noindex
X-PUBLISHED-TTL:PT1H
BEGIN:VTIMEZONE
TZID:America/Vancouver
BEGIN:DAYLIGHT
TZOFFSETFROM:-0800
TZOFFSETTO:-0700
TZNAME:PDT
DTSTART:20250309T100000
END:DAYLIGHT
BEGIN:STANDARD
TZOFFSETFROM:-0700
TZOFFSETTO:-0800
TZNAME:PST
DTSTART:20251102T090000
END:STANDARD
BEGIN:DAYLIGHT
TZOFFSETFROM:-0800
TZOFFSETTO:-0700
TZNAME:PDT
DTSTART:20260308T100000
END:DAYLIGHT
BEGIN:STANDARD
TZOFFSETFROM:-0700
TZOFFSETTO:-0800
TZNAME:PST
DTSTART:20261101T090000
END:STANDARD
BEGIN:DAYLIGHT
TZOFFSETFROM:-0800
TZOFFSETTO:-0700
TZNAME:PDT
DTSTART:20270314T100000
END:DAYLIGHT
BEGIN:STANDARD
TZOFFSETFROM:-0700
TZOFFSETTO:-0800
TZNAME:PST
DTSTART:20271107T090000
END:STANDARD
END:VTIMEZONE
BEGIN:VEVENT
DTSTART;TZID=America/Vancouver:20260704T080000
DTEND;TZID=America/Vancouver:20260704T130000
DTSTAMP:20260425T071642
CREATED:20260401T202605Z
LAST-MODIFIED:20260401T202632Z
UID:11125-1783152000-1783170000@springsrv.com
SUMMARY:360 Coffee Point Cafe Food Truck
DESCRIPTION:We’re excited to welcome 360 Coffee Point Café to the Springs!\nStart your day right with your favourite morning pick-me-up—whether it’s a fresh coffee\, a sweet treat\, a quick breakfast bite\, or a refreshing blended drink. \nEvent Details:\nDate: May 16th\, July 4th\, August 1st Time: 8:00 am – 1:00 pmLocation: Coffee Truck on site\nMenu: Fresh brewed coffee\, specialty drinks\, breakfast snacks\, sweet treats\, and blended beverages \nSwing by\, grab a drink\, and enjoy a relaxed morning at the resort. It’s the perfect way to fuel up before a day of summer fun!\nWe look forward to seeing you there!
URL:https://springsrv.com/event/360-coffee-point-cafe-food-truck/
LOCATION:Office\, 670 Hot Springs Road\, Harrison Hot Springs\, BC\, V0M 1K0\, Canada
ATTACH;FMTTYPE=image/png:https://springsrv.com/wp-content/uploads/2026/04/Screenshot-2026-04-01-at-1.16.42-PM.png
END:VEVENT
BEGIN:VEVENT
DTSTART;TZID=America/Vancouver:20260704T091500
DTEND;TZID=America/Vancouver:20260704T100000
DTSTAMP:20260425T071642
CREATED:20260331T224419Z
LAST-MODIFIED:20260401T034347Z
UID:11074-1783156500-1783159200@springsrv.com
SUMMARY:Aqua Fit
DESCRIPTION:Start your morning the Springs way with Aqua Fit at the Adult Pool! \nJoin us every Wednesday\, Friday\, Saturday\, and Sunday from 9:15am – 10:00am for a refreshing\, feel-good workout before the pool opens.\nWe’ll follow along to a recorded class and move together in the sunshine—no pressure\, just a great way to start the day. \nEvent Details:\nDays: Wednesday\, Friday\, Saturday & SundayTime: 9:15 am – 10:00 amLocation: Adult PoolCost: FreeWho: Adults only \nAll fitness levels are welcome—come as you are and jump in!\nWe can’t wait to see you poolside!
URL:https://springsrv.com/event/aqua-fit-34/
LOCATION:Adult Pool\, 670 Hot Springs Road\, Harrison Hot Springs\, BC\, V0M 1K0\, Canada
ATTACH;FMTTYPE=image/png:https://springsrv.com/wp-content/uploads/2026/03/Screenshot-2026-03-31-at-8.41.07-PM.png
ORGANIZER;CN="Springs RV Social":MAILTO:events@springsrv.com
END:VEVENT
BEGIN:VEVENT
DTSTART;TZID=America/Vancouver:20260704T180000
DTEND;TZID=America/Vancouver:20260704T230000
DTSTAMP:20260425T071642
CREATED:20260401T033822Z
LAST-MODIFIED:20260401T034225Z
UID:11085-1783188000-1783206000@springsrv.com
SUMMARY:Welcome Dinner & Dance
DESCRIPTION:We’re kicking off the season with a Welcome Dinner & Dance at the Springs—and you won’t want to miss it! \nJoin us for an evening of great food\, live music\, and celebrating the start of another amazing season together. We’re thrilled to have Rockwell Band back by popular demand\, bringing the energy and getting everyone out on the dance floor! \nEvent Details:Dinner: 6:00 pmDance: 7:30 pm – 11:00 pmLocation: Social PavilionBand: Rockwell \nMenu and ticket details will be released soon—stay tuned!\nFor now\, save the date and get ready for a fantastic night with your Springs community.
URL:https://springsrv.com/event/welcome-dinner-dance/
LOCATION:Social Pavilion\, 670 Hot Springs Rd.\, Harrison Hot Springs\, British Columbia\, V0M 1K0\, Canada
ATTACH;FMTTYPE=image/png:https://springsrv.com/wp-content/uploads/2026/03/Screenshot-2026-03-31-at-8.39.22-PM.png
ORGANIZER;CN="Springs RV Social":MAILTO:events@springsrv.com
END:VEVENT
END:VCALENDAR