BEGIN:VCALENDAR
VERSION:2.0
PRODID:-//Springs RV Resort - ECPv6.15.15//NONSGML v1.0//EN
CALSCALE:GREGORIAN
METHOD:PUBLISH
X-WR-CALNAME:Springs RV Resort
X-ORIGINAL-URL:https://springsrv.com
X-WR-CALDESC:Events for Springs RV Resort
REFRESH-INTERVAL;VALUE=DURATION:PT1H
X-Robots-Tag:noindex
X-PUBLISHED-TTL:PT1H
BEGIN:VTIMEZONE
TZID:America/Vancouver
BEGIN:DAYLIGHT
TZOFFSETFROM:-0800
TZOFFSETTO:-0700
TZNAME:PDT
DTSTART:20250309T100000
END:DAYLIGHT
BEGIN:STANDARD
TZOFFSETFROM:-0700
TZOFFSETTO:-0800
TZNAME:PST
DTSTART:20251102T090000
END:STANDARD
BEGIN:DAYLIGHT
TZOFFSETFROM:-0800
TZOFFSETTO:-0700
TZNAME:PDT
DTSTART:20260308T100000
END:DAYLIGHT
BEGIN:STANDARD
TZOFFSETFROM:-0700
TZOFFSETTO:-0800
TZNAME:PST
DTSTART:20261101T090000
END:STANDARD
BEGIN:DAYLIGHT
TZOFFSETFROM:-0800
TZOFFSETTO:-0700
TZNAME:PDT
DTSTART:20270314T100000
END:DAYLIGHT
BEGIN:STANDARD
TZOFFSETFROM:-0700
TZOFFSETTO:-0800
TZNAME:PST
DTSTART:20271107T090000
END:STANDARD
END:VTIMEZONE
BEGIN:VEVENT
DTSTART;TZID=America/Vancouver:20260711T091500
DTEND;TZID=America/Vancouver:20260711T100000
DTSTAMP:20260425T091554
CREATED:20260401T035408Z
LAST-MODIFIED:20260401T035408Z
UID:11095-1783761300-1783764000@springsrv.com
SUMMARY:Aqua Fit
DESCRIPTION:Start your morning the Springs way with Aqua Fit at the Adult Pool! \nJoin us every Wednesday\, Friday\, Saturday\, and Sunday from 9:15am – 10:00am for a refreshing\, feel-good workout before the pool opens.\nWe’ll follow along to a recorded class and move together in the sunshine—no pressure\, just a great way to start the day. \nEvent Details:\nDays: Wednesday\, Friday\, Saturday & SundayTime: 9:15 am – 10:00 amLocation: Adult PoolCost: FreeWho: Adults only \nAll fitness levels are welcome—come as you are and jump in!\nWe can’t wait to see you poolside!
URL:https://springsrv.com/event/aqua-fit-38/
LOCATION:Adult Pool\, 670 Hot Springs Road\, Harrison Hot Springs\, BC\, V0M 1K0\, Canada
ATTACH;FMTTYPE=image/png:https://springsrv.com/wp-content/uploads/2026/03/Screenshot-2026-03-31-at-8.41.07-PM.png
ORGANIZER;CN="Springs RV Social":MAILTO:events@springsrv.com
END:VEVENT
BEGIN:VEVENT
DTSTART;TZID=America/Vancouver:20260711T130000
DTEND;TZID=America/Vancouver:20260711T140000
DTSTAMP:20260425T091554
CREATED:20260401T040350Z
LAST-MODIFIED:20260401T040350Z
UID:11099-1783774800-1783778400@springsrv.com
SUMMARY:Urban Safari
DESCRIPTION:We’re excited to welcome a truly unique experience to the Springs—Urban Safari Animal Rescue Society is coming to visit!\nJoin us for an interactive and educational event where you’ll get the chance to meet real exotic animals up close while learning about wildlife rescue\, conservation\, and responsible animal care. \nEvent Details:Time: 1pm Location: Social PavilionCost: Free \nUrban Safari Animal Rescue Society is a registered non-profit dedicated to rescuing and rehoming exotic animals\, as well as educating the public about these incredible creatures. Their team will be bringing a variety of animals and sharing fascinating facts\, making this a fun and memorable experience for all ages. \nWe look forward to seeing you there—this is one event you won’t want to miss!
URL:https://springsrv.com/event/urban-safari-2/
LOCATION:Social Pavilion\, 670 Hot Springs Rd.\, Harrison Hot Springs\, British Columbia\, V0M 1K0\, Canada
ATTACH;FMTTYPE=image/png:https://springsrv.com/wp-content/uploads/2026/03/Screenshot-2026-03-31-at-9.03.17-PM.png
END:VEVENT
BEGIN:VEVENT
DTSTART;TZID=America/Vancouver:20260711T193000
DTEND;TZID=America/Vancouver:20260711T220000
DTSTAMP:20260425T091554
CREATED:20250407T204558Z
LAST-MODIFIED:20260401T041713Z
UID:8470-1783798200-1783807200@springsrv.com
SUMMARY:Pub Trivia Night!
DESCRIPTION:We’re excited to bring some friendly competition to the Springs with Trivia Night!\nGather your team\, test your knowledge\, and get ready for a fun evening of laughs\, challenges\, and a little bragging rights on the line. \nEvent Details:\nTime: 7:30 pmLocation: Social PavilionCost: $3 per person (paid at the event) \nTeams must be registered in advance at the office! \nWe look forward to seeing who takes home the title—let the trivia begin!
URL:https://springsrv.com/event/pub-trivia-night-2/
LOCATION:Social Pavilion\, 670 Hot Springs Rd.\, Harrison Hot Springs\, British Columbia\, V0M 1K0\, Canada
ATTACH;FMTTYPE=image/png:https://springsrv.com/wp-content/uploads/2025/04/Screenshot-2026-03-31-at-9.16.38-PM.png
END:VEVENT
END:VCALENDAR