BEGIN:VCALENDAR
VERSION:2.0
PRODID:-//Springs RV Resort - ECPv6.15.15//NONSGML v1.0//EN
CALSCALE:GREGORIAN
METHOD:PUBLISH
X-ORIGINAL-URL:https://springsrv.com
X-WR-CALDESC:Events for Springs RV Resort
REFRESH-INTERVAL;VALUE=DURATION:PT1H
X-Robots-Tag:noindex
X-PUBLISHED-TTL:PT1H
BEGIN:VTIMEZONE
TZID:America/Vancouver
BEGIN:DAYLIGHT
TZOFFSETFROM:-0800
TZOFFSETTO:-0700
TZNAME:PDT
DTSTART:20250309T100000
END:DAYLIGHT
BEGIN:STANDARD
TZOFFSETFROM:-0700
TZOFFSETTO:-0800
TZNAME:PST
DTSTART:20251102T090000
END:STANDARD
BEGIN:DAYLIGHT
TZOFFSETFROM:-0800
TZOFFSETTO:-0700
TZNAME:PDT
DTSTART:20260308T100000
END:DAYLIGHT
BEGIN:STANDARD
TZOFFSETFROM:-0700
TZOFFSETTO:-0800
TZNAME:PST
DTSTART:20261101T090000
END:STANDARD
BEGIN:DAYLIGHT
TZOFFSETFROM:-0800
TZOFFSETTO:-0700
TZNAME:PDT
DTSTART:20270314T100000
END:DAYLIGHT
BEGIN:STANDARD
TZOFFSETFROM:-0700
TZOFFSETTO:-0800
TZNAME:PST
DTSTART:20271107T090000
END:STANDARD
END:VTIMEZONE
BEGIN:VEVENT
DTSTART;TZID=America/Vancouver:20260718T091500
DTEND;TZID=America/Vancouver:20260718T100000
DTSTAMP:20260425T090327
CREATED:20260401T041914Z
LAST-MODIFIED:20260401T041914Z
UID:11107-1784366100-1784368800@springsrv.com
SUMMARY:Aqua Fit
DESCRIPTION:Start your morning the Springs way with Aqua Fit at the Adult Pool! \nJoin us every Wednesday\, Friday\, Saturday\, and Sunday from 9:15am – 10:00am for a refreshing\, feel-good workout before the pool opens.\nWe’ll follow along to a recorded class and move together in the sunshine—no pressure\, just a great way to start the day. \nEvent Details:\nDays: Wednesday\, Friday\, Saturday & SundayTime: 9:15 am – 10:00 amLocation: Adult PoolCost: FreeWho: Adults only \nAll fitness levels are welcome—come as you are and jump in!\nWe can’t wait to see you poolside!
URL:https://springsrv.com/event/aqua-fit-42/
LOCATION:Adult Pool\, 670 Hot Springs Road\, Harrison Hot Springs\, BC\, V0M 1K0\, Canada
ATTACH;FMTTYPE=image/png:https://springsrv.com/wp-content/uploads/2026/03/Screenshot-2026-03-31-at-8.41.07-PM.png
ORGANIZER;CN="Springs RV Social":MAILTO:events@springsrv.com
END:VEVENT
BEGIN:VEVENT
DTSTART;TZID=America/Vancouver:20260718T120000
DTEND;TZID=America/Vancouver:20260718T170000
DTSTAMP:20260425T090327
CREATED:20260401T201527Z
LAST-MODIFIED:20260401T201527Z
UID:11117-1784376000-1784394000@springsrv.com
SUMMARY:Food Truck Day
DESCRIPTION:We’re bringing the flavour to the Springs with an afternoon of food\, fun\, and summer vibes! \nEvent Details:Date: Saturday\, July 18thTime: 12:00 pm – 5:00 pmFood: Food trucks on site (available for purchase) \nCome hungry and ready for a great afternoon! Grab your friends\, try something delicious\, and enjoy a laid-back summer day filled with good food and even better company. \nThis event is open to all owners\, seasonals and daily guests—see you there! 🍔☀️
URL:https://springsrv.com/event/food-truck-day/
LOCATION:British Columbia
ATTACH;FMTTYPE=image/png:https://springsrv.com/wp-content/uploads/2026/03/Screenshot-2026-03-31-at-11.29.23-AM.png
END:VEVENT
END:VCALENDAR