BEGIN:VCALENDAR
VERSION:2.0
PRODID:-//Springs RV Resort - ECPv6.15.15//NONSGML v1.0//EN
CALSCALE:GREGORIAN
METHOD:PUBLISH
X-WR-CALNAME:Springs RV Resort
X-ORIGINAL-URL:https://springsrv.com
X-WR-CALDESC:Events for Springs RV Resort
REFRESH-INTERVAL;VALUE=DURATION:PT1H
X-Robots-Tag:noindex
X-PUBLISHED-TTL:PT1H
BEGIN:VTIMEZONE
TZID:America/Vancouver
BEGIN:DAYLIGHT
TZOFFSETFROM:-0800
TZOFFSETTO:-0700
TZNAME:PDT
DTSTART:20250309T100000
END:DAYLIGHT
BEGIN:STANDARD
TZOFFSETFROM:-0700
TZOFFSETTO:-0800
TZNAME:PST
DTSTART:20251102T090000
END:STANDARD
BEGIN:DAYLIGHT
TZOFFSETFROM:-0800
TZOFFSETTO:-0700
TZNAME:PDT
DTSTART:20260308T100000
END:DAYLIGHT
BEGIN:STANDARD
TZOFFSETFROM:-0700
TZOFFSETTO:-0800
TZNAME:PST
DTSTART:20261101T090000
END:STANDARD
BEGIN:DAYLIGHT
TZOFFSETFROM:-0800
TZOFFSETTO:-0700
TZNAME:PDT
DTSTART:20270314T100000
END:DAYLIGHT
BEGIN:STANDARD
TZOFFSETFROM:-0700
TZOFFSETTO:-0800
TZNAME:PST
DTSTART:20271107T090000
END:STANDARD
END:VTIMEZONE
BEGIN:VEVENT
DTSTART;TZID=America/Vancouver:20260724T080000
DTEND;TZID=America/Vancouver:20260726T170000
DTSTAMP:20260425T090321
CREATED:20260401T211400Z
LAST-MODIFIED:20260401T211419Z
UID:11137-1784880000-1785085200@springsrv.com
SUMMARY:Self Guided Christmas Lot Walk
DESCRIPTION:Get into the spirit and decorate your lots for Christmas in July! \nWith Santa visiting\, “snow” falling at our kids foam party\, and a Night Before Christmas craft and movie night\, the whole weekend is packed with festive fun—and having the resort beautifully decorated makes it even more magical. \nTake part in our self-guided park walk at dusk\, where everyone can stroll the resort and take in the lights\, creativity\, and Christmas spirit. \nThere will be fun prizes for the best-decorated lots\, announced on Saturday—we can’t wait to see what everyone comes up with! \nLet’s light up the resort and make this a Christmas in July to remember! 🎄✨
URL:https://springsrv.com/event/self-guided-christmas-lot-walk-2/
LOCATION:British Columbia
ATTACH;FMTTYPE=image/png:https://springsrv.com/wp-content/uploads/2026/04/24.png
END:VEVENT
BEGIN:VEVENT
DTSTART;TZID=America/Vancouver:20260725T091500
DTEND;TZID=America/Vancouver:20260725T100000
DTSTAMP:20260425T090321
CREATED:20260401T204505Z
LAST-MODIFIED:20260401T204505Z
UID:11132-1784970900-1784973600@springsrv.com
SUMMARY:Aqua Fit
DESCRIPTION:Start your morning the Springs way with Aqua Fit at the Adult Pool! \nJoin us every Wednesday\, Friday\, Saturday\, and Sunday from 9:15am – 10:00am for a refreshing\, feel-good workout before the pool opens.\nWe’ll follow along to a recorded class and move together in the sunshine—no pressure\, just a great way to start the day. \nEvent Details:\nDays: Wednesday\, Friday\, Saturday & SundayTime: 9:15 am – 10:00 amLocation: Adult PoolCost: FreeWho: Adults only \nAll fitness levels are welcome—come as you are and jump in!\nWe can’t wait to see you poolside!
URL:https://springsrv.com/event/aqua-fit-46/
LOCATION:Adult Pool\, 670 Hot Springs Road\, Harrison Hot Springs\, BC\, V0M 1K0\, Canada
ATTACH;FMTTYPE=image/png:https://springsrv.com/wp-content/uploads/2026/03/Screenshot-2026-03-31-at-8.41.07-PM.png
ORGANIZER;CN="Springs RV Social":MAILTO:events@springsrv.com
END:VEVENT
BEGIN:VEVENT
DTSTART;TZID=America/Vancouver:20260725T130000
DTEND;TZID=America/Vancouver:20260725T140000
DTSTAMP:20260425T090321
CREATED:20260401T214430Z
LAST-MODIFIED:20260402T051812Z
UID:11148-1784984400-1784988000@springsrv.com
SUMMARY:Snow Kids Foam Party
DESCRIPTION:It’s Christmas in July Weekend and we’re bringing the snow to the Springs—summer style—with our Snow Kids Foam Party! \nNo snow? No problem! Join us for a festive\, foam-filled celebration as part of our Christmas in July weekend. It’s the perfect way for kids to cool off\, play\, and have a blast in a winter wonderland (without the cold!). \nEvent Details:\nTime: 1:00 pm – 2:00 pmLocation: Back LotCost: $5\n**Please note: This is a kids event. Parent participation and supervision are required.\n**Swimsuits are recommended—things will get foamy! \nWe can’t wait to see everyone out for this snowy summer fun! ❄️🎉
URL:https://springsrv.com/event/snow-kids-foam-party/
LOCATION:Back 40
ATTACH;FMTTYPE=image/png:https://springsrv.com/wp-content/uploads/2026/04/Screenshot-2026-04-01-at-2.05.59-PM.png
END:VEVENT
BEGIN:VEVENT
DTSTART;TZID=America/Vancouver:20260725T160000
DTEND;TZID=America/Vancouver:20260725T200000
DTSTAMP:20260425T090321
CREATED:20260401T214006Z
LAST-MODIFIED:20260402T182330Z
UID:11146-1784995200-1785009600@springsrv.com
SUMMARY:Meet Santa & Christmas Dinner
DESCRIPTION:We’re bringing the magic of Christmas to the Springs with our festive Christmas in July Turkey Dinner! \nGet dressed up for a “black tie—Springs style” evening filled with great food\, holiday cheer\, and fun! Come early to meet Santa\, snap a festive photo\, and soak in the Christmas spirit! \nEvent Details:\nDate: Friday\, July 25thLocation: Social Pavilion\n4:00 pm – Meet Santa & Photos6:00 pm – Turkey Dinner with all the fixings\n**Please note: Bring your own plate and cutlery. \nWe can’t wait to celebrate with you—this is one of the most magical nights of the summer! 🎄✨
URL:https://springsrv.com/event/christmas-in-july-dinner/
LOCATION:Springs RV Resort Pavilion\, 670 Hot Springs Road\, Harrison Hot Springs\, BC\, V0M 1K0\, Canada
ATTACH;FMTTYPE=image/png:https://springsrv.com/wp-content/uploads/2026/04/27.png
END:VEVENT
END:VCALENDAR