BEGIN:VCALENDAR
VERSION:2.0
PRODID:-//Springs RV Resort - ECPv6.15.15//NONSGML v1.0//EN
CALSCALE:GREGORIAN
METHOD:PUBLISH
X-ORIGINAL-URL:https://springsrv.com
X-WR-CALDESC:Events for Springs RV Resort
REFRESH-INTERVAL;VALUE=DURATION:PT1H
X-Robots-Tag:noindex
X-PUBLISHED-TTL:PT1H
BEGIN:VTIMEZONE
TZID:America/Vancouver
BEGIN:DAYLIGHT
TZOFFSETFROM:-0800
TZOFFSETTO:-0700
TZNAME:PDT
DTSTART:20250309T100000
END:DAYLIGHT
BEGIN:STANDARD
TZOFFSETFROM:-0700
TZOFFSETTO:-0800
TZNAME:PST
DTSTART:20251102T090000
END:STANDARD
BEGIN:DAYLIGHT
TZOFFSETFROM:-0800
TZOFFSETTO:-0700
TZNAME:PDT
DTSTART:20260308T100000
END:DAYLIGHT
BEGIN:STANDARD
TZOFFSETFROM:-0700
TZOFFSETTO:-0800
TZNAME:PST
DTSTART:20261101T090000
END:STANDARD
BEGIN:DAYLIGHT
TZOFFSETFROM:-0800
TZOFFSETTO:-0700
TZNAME:PDT
DTSTART:20270314T100000
END:DAYLIGHT
BEGIN:STANDARD
TZOFFSETFROM:-0700
TZOFFSETTO:-0800
TZNAME:PST
DTSTART:20271107T090000
END:STANDARD
END:VTIMEZONE
BEGIN:VEVENT
DTSTART;TZID=America/Vancouver:20260731T091500
DTEND;TZID=America/Vancouver:20260731T100000
DTSTAMP:20260425T090327
CREATED:20260401T214626Z
LAST-MODIFIED:20260401T214626Z
UID:11152-1785489300-1785492000@springsrv.com
SUMMARY:Aqua Fit
DESCRIPTION:Start your morning the Springs way with Aqua Fit at the Adult Pool! \nJoin us every Wednesday\, Friday\, Saturday\, and Sunday from 9:15am – 10:00am for a refreshing\, feel-good workout before the pool opens.\nWe’ll follow along to a recorded class and move together in the sunshine—no pressure\, just a great way to start the day. \nEvent Details:\nDays: Wednesday\, Friday\, Saturday & SundayTime: 9:15 am – 10:00 amLocation: Adult PoolCost: FreeWho: Adults only \nAll fitness levels are welcome—come as you are and jump in!\nWe can’t wait to see you poolside!
URL:https://springsrv.com/event/aqua-fit-49/
LOCATION:Adult Pool\, 670 Hot Springs Road\, Harrison Hot Springs\, BC\, V0M 1K0\, Canada
ATTACH;FMTTYPE=image/png:https://springsrv.com/wp-content/uploads/2026/03/Screenshot-2026-03-31-at-8.41.07-PM.png
ORGANIZER;CN="Springs RV Social":MAILTO:events@springsrv.com
END:VEVENT
BEGIN:VEVENT
DTSTART;TZID=America/Vancouver:20260731T180000
DTEND;TZID=America/Vancouver:20260731T190000
DTSTAMP:20260425T090327
CREATED:20260401T214811Z
LAST-MODIFIED:20260401T214811Z
UID:11159-1785520800-1785524400@springsrv.com
SUMMARY:Friday Night Burgers
DESCRIPTION:We’re excited to bring back everyone’s favourite Friday Night Burgers at the Springs!\nJoin us every Friday evening at the Social Pavilion for a delicious\, easy dinner and a great way to kick off the weekend with friends and family. \nEvent Details:\nDay: FridaysTime: 6:00 pm – 7:00 pmLocation: Social PavilionMenu: Veggie burger\, gluten-free bun\, and kids’ hot dogs available (full menu varies weekly)Includes: Your burger will also come with two side options\n**Please note: Bring your own plate and cutlery.\n \nTickets:$10 online (must be purchased by 5:00pm Thursday each week so we can prepare for you)$12 at the event\n$5 Kids hot dogs \nVolunteers Needed: \nWe rely on volunteers to make this event happen. Please sign up at the office if you can help\, or just come by and jump in—we’d love the extra hands! \nWe look forward to seeing you there—nothing better than burgers and a summer evening at the Springs!
URL:https://springsrv.com/event/friday-night-burgers-15/
LOCATION:Social Pavilion\, 670 Hot Springs Rd.\, Harrison Hot Springs\, British Columbia\, V0M 1K0\, Canada
ATTACH;FMTTYPE=image/png:https://springsrv.com/wp-content/uploads/2026/03/Screenshot-2026-03-31-at-8.29.18-PM.png
END:VEVENT
END:VCALENDAR