BEGIN:VCALENDAR
VERSION:2.0
PRODID:-//Springs RV Resort - ECPv6.15.15//NONSGML v1.0//EN
CALSCALE:GREGORIAN
METHOD:PUBLISH
X-ORIGINAL-URL:https://springsrv.com
X-WR-CALDESC:Events for Springs RV Resort
REFRESH-INTERVAL;VALUE=DURATION:PT1H
X-Robots-Tag:noindex
X-PUBLISHED-TTL:PT1H
BEGIN:VTIMEZONE
TZID:America/Vancouver
BEGIN:DAYLIGHT
TZOFFSETFROM:-0800
TZOFFSETTO:-0700
TZNAME:PDT
DTSTART:20250309T100000
END:DAYLIGHT
BEGIN:STANDARD
TZOFFSETFROM:-0700
TZOFFSETTO:-0800
TZNAME:PST
DTSTART:20251102T090000
END:STANDARD
BEGIN:DAYLIGHT
TZOFFSETFROM:-0800
TZOFFSETTO:-0700
TZNAME:PDT
DTSTART:20260308T100000
END:DAYLIGHT
BEGIN:STANDARD
TZOFFSETFROM:-0700
TZOFFSETTO:-0800
TZNAME:PST
DTSTART:20261101T090000
END:STANDARD
BEGIN:DAYLIGHT
TZOFFSETFROM:-0800
TZOFFSETTO:-0700
TZNAME:PDT
DTSTART:20270314T100000
END:DAYLIGHT
BEGIN:STANDARD
TZOFFSETFROM:-0700
TZOFFSETTO:-0800
TZNAME:PST
DTSTART:20271107T090000
END:STANDARD
END:VTIMEZONE
BEGIN:VEVENT
DTSTART;TZID=America/Vancouver:20260822T091500
DTEND;TZID=America/Vancouver:20260822T100000
DTSTAMP:20260425T104509
CREATED:20260402T023232Z
LAST-MODIFIED:20260402T023232Z
UID:11186-1787390100-1787392800@springsrv.com
SUMMARY:Aqua Fit
DESCRIPTION:Start your morning the Springs way with Aqua Fit at the Adult Pool! \nJoin us every Wednesday\, Friday\, Saturday\, and Sunday from 9:15am – 10:00am for a refreshing\, feel-good workout before the pool opens.\nWe’ll follow along to a recorded class and move together in the sunshine—no pressure\, just a great way to start the day. \nEvent Details:\nDays: Wednesday\, Friday\, Saturday & SundayTime: 9:15 am – 10:00 amLocation: Adult PoolCost: FreeWho: Adults only \nAll fitness levels are welcome—come as you are and jump in!\nWe can’t wait to see you poolside!
URL:https://springsrv.com/event/aqua-fit-62/
LOCATION:Adult Pool\, 670 Hot Springs Road\, Harrison Hot Springs\, BC\, V0M 1K0\, Canada
ATTACH;FMTTYPE=image/png:https://springsrv.com/wp-content/uploads/2026/03/Screenshot-2026-03-31-at-8.41.07-PM.png
ORGANIZER;CN="Springs RV Social":MAILTO:events@springsrv.com
END:VEVENT
BEGIN:VEVENT
DTSTART;TZID=America/Vancouver:20260822T150000
DTEND;TZID=America/Vancouver:20260822T170000
DTSTAMP:20260425T104509
CREATED:20260402T033605Z
LAST-MODIFIED:20260402T050443Z
UID:11223-1787410800-1787418000@springsrv.com
SUMMARY:Chili Cook Off
DESCRIPTION:We’re turning up the heat at the Springs with our Chili Cook-Off! \nWhether you’re competing or just coming to taste\, this is a fun (and delicious) afternoon you won’t want to miss. \nEvent Details:\nTime: 3:00 pm – 5:00 pmLocation: Social Pavilion \nChefs – Ready to Compete?Register at the office as soon as possible so we know how many entries to expect—and let us know what kind of chili you’ll be bringing!\nPlease arrive at the Social Pavilion at 2:00 pm to set up. Bring your chili\, a hot plate to keep it warm\, and any garnishes you’d like to serve. Then get ready for the tasting to begin! \nTasters – Come Hungry!Join us between 3:00 pm – 5:00 pm to sample all the delicious entries. Don’t forget to bring your own bowl and cutlery for tasting!\nCast your vote for your favourite chili and stick around to see who takes home 1st\, 2nd\, and 3rd place. \nIt’s going to be a flavour-packed afternoon—see you there!
URL:https://springsrv.com/event/chili-cook-off-2/
LOCATION:Social Pavilion\, 670 Hot Springs Rd.\, Harrison Hot Springs\, British Columbia\, V0M 1K0\, Canada
ATTACH;FMTTYPE=image/png:https://springsrv.com/wp-content/uploads/2026/04/Screenshot-2026-04-01-at-3.19.25-PM.png
ORGANIZER;CN="Springs RV Social":MAILTO:events@springsrv.com
END:VEVENT
END:VCALENDAR