BEGIN:VCALENDAR
VERSION:2.0
PRODID:-//Springs RV Resort - ECPv6.15.15//NONSGML v1.0//EN
CALSCALE:GREGORIAN
METHOD:PUBLISH
X-WR-CALNAME:Springs RV Resort
X-ORIGINAL-URL:https://springsrv.com
X-WR-CALDESC:Events for Springs RV Resort
REFRESH-INTERVAL;VALUE=DURATION:PT1H
X-Robots-Tag:noindex
X-PUBLISHED-TTL:PT1H
BEGIN:VTIMEZONE
TZID:America/Vancouver
BEGIN:DAYLIGHT
TZOFFSETFROM:-0800
TZOFFSETTO:-0700
TZNAME:PDT
DTSTART:20240310T100000
END:DAYLIGHT
BEGIN:STANDARD
TZOFFSETFROM:-0700
TZOFFSETTO:-0800
TZNAME:PST
DTSTART:20241103T090000
END:STANDARD
BEGIN:DAYLIGHT
TZOFFSETFROM:-0800
TZOFFSETTO:-0700
TZNAME:PDT
DTSTART:20250309T100000
END:DAYLIGHT
BEGIN:STANDARD
TZOFFSETFROM:-0700
TZOFFSETTO:-0800
TZNAME:PST
DTSTART:20251102T090000
END:STANDARD
BEGIN:DAYLIGHT
TZOFFSETFROM:-0800
TZOFFSETTO:-0700
TZNAME:PDT
DTSTART:20260308T100000
END:DAYLIGHT
BEGIN:STANDARD
TZOFFSETFROM:-0700
TZOFFSETTO:-0800
TZNAME:PST
DTSTART:20261101T090000
END:STANDARD
BEGIN:DAYLIGHT
TZOFFSETFROM:-0800
TZOFFSETTO:-0700
TZNAME:PDT
DTSTART:20270314T100000
END:DAYLIGHT
BEGIN:STANDARD
TZOFFSETFROM:-0700
TZOFFSETTO:-0800
TZNAME:PST
DTSTART:20271107T090000
END:STANDARD
END:VTIMEZONE
BEGIN:VEVENT
DTSTART;TZID=America/Vancouver:20260516T140000
DTEND;TZID=America/Vancouver:20260516T180000
DTSTAMP:20260425T091229
CREATED:20260401T200952Z
LAST-MODIFIED:20260401T201033Z
UID:11114-1778940000-1778954400@springsrv.com
SUMMARY:May Long Food Truck Party!
DESCRIPTION:We’re excited to kick off the season with our May Long Weekend Welcome Food Truck Party!\nJoin us on Saturday\, May 16th for an afternoon of great food\, music\, and community as we celebrate the start of another amazing season at the Springs. \nEvent Details:\nDate: Saturday\, May 16thTime: 2:00 pm – 6:00 pmEntertainment: Music by DJ Joe MoneyTreats: Ice cream & popsicles (free!)Food: Food trucks on site (available for purchase) \nThis event is open to all owners and their guests—bring your friends\, grab a bite\, and enjoy a fun afternoon together. \nThe fun doesn’t stop there!\nDJ Joe Money will keep the energy going into the evening with our May Long Community Dance:\nTime: 7:00 pm – 11:00 pmLocation: Social Pavilion \nWe look forward to celebrating the long weekend with you!
URL:https://springsrv.com/event/may-long-food-truck-party/
LOCATION:British Columbia
ATTACH;FMTTYPE=image/png:https://springsrv.com/wp-content/uploads/2026/03/Screenshot-2026-03-31-at-11.29.23-AM.png
END:VEVENT
BEGIN:VEVENT
DTSTART;TZID=America/Vancouver:20260516T080000
DTEND;TZID=America/Vancouver:20260516T130000
DTSTAMP:20260425T091229
CREATED:20260401T202246Z
LAST-MODIFIED:20260401T202439Z
UID:11119-1778918400-1778936400@springsrv.com
SUMMARY:360 Coffee Point Cafe Food Truck
DESCRIPTION:We’re excited to welcome 360 Coffee Point Café to the Springs!\nStart your day right with your favourite morning pick-me-up—whether it’s a fresh coffee\, a sweet treat\, a quick breakfast bite\, or a refreshing blended drink. \nEvent Details:\nDate: May 16th\, July 4th\, August 1st Time: 8:00 am – 1:00 pmLocation: Coffee Truck on site\nMenu: Fresh brewed coffee\, specialty drinks\, breakfast snacks\, sweet treats\, and blended beverages \nSwing by\, grab a drink\, and enjoy a relaxed morning at the resort. It’s the perfect way to fuel up before a day of summer fun!\nWe look forward to seeing you there!
URL:https://springsrv.com/event/360-coffee-point-cafe-at-the-springs-2/
LOCATION:Office\, 670 Hot Springs Road\, Harrison Hot Springs\, BC\, V0M 1K0\, Canada
ATTACH;FMTTYPE=image/png:https://springsrv.com/wp-content/uploads/2026/04/Screenshot-2026-04-01-at-1.16.42-PM.png
END:VEVENT
BEGIN:VEVENT
DTSTART;TZID=America/Vancouver:20260510T100000
DTEND;TZID=America/Vancouver:20260510T113000
DTSTAMP:20260425T091229
CREATED:20260331T183709Z
LAST-MODIFIED:20260422T204805Z
UID:11051-1778407200-1778412600@springsrv.com
SUMMARY:Mother's Day Brunch
DESCRIPTION:We’re excited to celebrate all the amazing moms at the Springs with our annual Mother’s Day Brunch!\nJoin us Sunday\, May 10th from 10:00am at the Social Pavilion. It will be a special morning filled with great food and time together. \nEvent Details:\nDate: Sunday\, May 10thTime: 10:00 am to 11:30 am Location: Social Pavilion\nMenu: French toast with strawberry compote and whipped cream\, sausages\, fresh fruit\, coffee\, and orange juice \nTickets:$12 Adults$8 KidsLimited to 50 guests \nVolunteers Needed!We’re looking for a few helpers to assist with the craft\, cooking\, and setup. If you’d like to help\, please come to the Pavilion at 9:00am. You can email the office ahead of time so we know who to expect\, or just show up and jump in.\nWe look forward to celebrating with you! 💐
URL:https://springsrv.com/event/mothers-day-brunch-2/
LOCATION:Social Pavilion\, 670 Hot Springs Rd.\, Harrison Hot Springs\, British Columbia\, V0M 1K0\, Canada
ATTACH;FMTTYPE=image/png:https://springsrv.com/wp-content/uploads/2026/03/Screenshot-2026-03-31-at-11.14.05-AM.png
ORGANIZER;CN="Springs RV Social":MAILTO:events@springsrv.com
END:VEVENT
BEGIN:VEVENT
DTSTART;TZID=America/Vancouver:20260509T100000
DTEND;TZID=America/Vancouver:20260509T110000
DTSTAMP:20260425T091229
CREATED:20260422T205327Z
LAST-MODIFIED:20260422T205638Z
UID:11450-1778320800-1778324400@springsrv.com
SUMMARY:Mother's Day Kids Craft
DESCRIPTION:We’re excited to celebrate all the amazing moms at the Springs with our Mother’s Day Kids Craft!\nJoin us Saturday\, May 9th from 10:00am – 11:00am at the Social Pavilion for a fun and creative morning. We’ll have a special cupcake decorating station with staff member Crystal—kids can create a sweet treat for Mom (and enjoy a few tastes along the way!). \nEvent Details:\nDate: Saturday\, May 9thTime: 10:00 am – 11:00 amLocation: Social Pavilion \nPlease RSVP by Friday\, May 8th so we can plan supplies accordingly.\nPlease note: Parent supervision is mandatory. We’re looking for a few helpers to assist with setup and the craft. If you’d like to help\, please come to the Pavilion at 10:00am. You can email the office ahead of time so we know who to expect\, or just show up and jump in. 💐
URL:https://springsrv.com/event/mothers-day-brunch-3/
LOCATION:Social Pavilion\, 670 Hot Springs Rd.\, Harrison Hot Springs\, British Columbia\, V0M 1K0\, Canada
ATTACH;FMTTYPE=image/png:https://springsrv.com/wp-content/uploads/2026/04/Screenshot-2026-04-22-at-1.54.57-PM.png
ORGANIZER;CN="Springs RV Social":MAILTO:events@springsrv.com
END:VEVENT
BEGIN:VEVENT
DTSTART;TZID=America/Vancouver:20260405T110000
DTEND;TZID=America/Vancouver:20260405T120000
DTSTAMP:20260425T091229
CREATED:20260331T180859Z
LAST-MODIFIED:20260401T035128Z
UID:11048-1775386800-1775390400@springsrv.com
SUMMARY:Easter Egg Hunt
DESCRIPTION:We’re excited to kick off the season with our first community event of the year – Mary da Costa’s annual Easter Egg Hunt! \nJoin us April 5th – Easter Sunday – at 11:00am at the Pavillion for a fun morning of egg hunting\, treats\, and time together with friends and family. \nEvent Details:\nDate: Sunday\, April 5th\nTime: 11:00 am\nLocation: The Pavilion\nTreats and Snacks Provided\nPlease bring your own baskets to collect eggs! \nVolunteers Needed!\nWe’re looking for a few helpers to hide eggs before the event. If you’d like to lend a hand\, please meet at the Pavilion at 9:30am. \nWe look forward to celebrating the start of spring with everyone.\nSee you there!
URL:https://springsrv.com/event/easter-egg-hunt-2026/
LOCATION:Social Pavilion\, 670 Hot Springs Rd.\, Harrison Hot Springs\, British Columbia\, V0M 1K0\, Canada
ATTACH;FMTTYPE=image/png:https://springsrv.com/wp-content/uploads/2026/03/Screenshot-2026-03-31-at-8.50.35-PM.png
END:VEVENT
BEGIN:VEVENT
DTSTART;TZID=America/Vancouver:20251012T180000
DTEND;TZID=America/Vancouver:20251012T200000
DTSTAMP:20260425T091229
CREATED:20251006T010214Z
LAST-MODIFIED:20251009T231715Z
UID:10611-1760292000-1760299200@springsrv.com
SUMMARY:Thanksgiving Dinner
DESCRIPTION:Join us for Thanksgiving Turkey dinner with all the fixings\, potatoes\, stuffing\, gravy\, cranberry sauce\, veggies\, homemade sourdough and pie at the phase 2 clubhouse. Feel free to gather and mingle before. Dinner will be served at 6:00PM.
URL:https://springsrv.com/event/thanksgiving-dinner/
LOCATION:North Clubhouse\, 670 Hot Springs Road\, Harrison Hot Springs\, BC\, V0M1K0\, Canada
END:VEVENT
BEGIN:VEVENT
DTSTART;TZID=America/Vancouver:20250831T180000
DTEND;TZID=America/Vancouver:20250831T230000
DTSTAMP:20260425T091229
CREATED:20240602T173345Z
LAST-MODIFIED:20250831T203024Z
UID:6016-1756663200-1756681200@springsrv.com
SUMMARY:Western Weekend SUNDAY NIGHT PIG ROAST & Dance
DESCRIPTION:Come and enjoy….\n\n\nWhole pig roast\ncoleslaw\ncorn and more!
URL:https://springsrv.com/event/western-bbq-dance/
LOCATION:Social Pavilion\, 670 Hot Springs Rd.\, Harrison Hot Springs\, British Columbia\, V0M 1K0\, Canada
ORGANIZER;CN="Springs RV Social":MAILTO:events@springsrv.com
END:VEVENT
BEGIN:VEVENT
DTSTART;TZID=America/Vancouver:20250831T091500
DTEND;TZID=America/Vancouver:20250831T100000
DTSTAMP:20260425T091229
CREATED:20240520T205308Z
LAST-MODIFIED:20250408T182446Z
UID:5613-1756631700-1756634400@springsrv.com
SUMMARY:Aqua Fit
DESCRIPTION:
URL:https://springsrv.com/event/aqua-fit-5/
LOCATION:Family Pool\, 670 Hot Springs Road\, Harrison Hot Springs\, BC\, V0M 1K0\, Canada
ATTACH;FMTTYPE=image/png:https://springsrv.com/wp-content/uploads/2024/06/Screen-Shot-2024-06-24-at-1.06.48-PM.png
ORGANIZER;CN="Springs RV Social":MAILTO:events@springsrv.com
END:VEVENT
BEGIN:VEVENT
DTSTART;TZID=America/Vancouver:20250830T180000
DTEND;TZID=America/Vancouver:20250830T203000
DTSTAMP:20260425T091229
CREATED:20250407T210207Z
LAST-MODIFIED:20250811T232040Z
UID:8490-1756576800-1756585800@springsrv.com
SUMMARY:Western Weekend Bingo Night
DESCRIPTION:Kids are welcome but they must be seated with an adult. Only adults can win/claim prizes.
URL:https://springsrv.com/event/bingo-night-6/
LOCATION:Social Pavilion\, 670 Hot Springs Rd.\, Harrison Hot Springs\, British Columbia\, V0M 1K0\, Canada
END:VEVENT
BEGIN:VEVENT
DTSTART;TZID=America/Vancouver:20250830T110000
DTEND;TZID=America/Vancouver:20250830T120000
DTSTAMP:20260425T091229
CREATED:20250408T171555Z
LAST-MODIFIED:20250408T172916Z
UID:8584-1756551600-1756555200@springsrv.com
SUMMARY:Western Weekend Saturday Kids Craft
DESCRIPTION:Parent participation/ supervision required
URL:https://springsrv.com/event/saturday-kids-craft-12/
LOCATION:Social Pavilion\, 670 Hot Springs Rd.\, Harrison Hot Springs\, British Columbia\, V0M 1K0\, Canada
ATTACH;FMTTYPE=image/png:https://springsrv.com/wp-content/uploads/2024/05/Screen-Shot-2024-06-22-at-1.54.46-PM.png
ORGANIZER;CN="Springs RV Social":MAILTO:events@springsrv.com
END:VEVENT
BEGIN:VEVENT
DTSTART;TZID=America/Vancouver:20250830T091500
DTEND;TZID=America/Vancouver:20250830T100000
DTSTAMP:20260425T091229
CREATED:20240520T205423Z
LAST-MODIFIED:20250408T182404Z
UID:5616-1756545300-1756548000@springsrv.com
SUMMARY:Aqua Fit
DESCRIPTION:
URL:https://springsrv.com/event/aqua-fit-6/
LOCATION:Family Pool\, 670 Hot Springs Road\, Harrison Hot Springs\, BC\, V0M 1K0\, Canada
ATTACH;FMTTYPE=image/png:https://springsrv.com/wp-content/uploads/2024/06/Screen-Shot-2024-06-24-at-1.06.48-PM.png
ORGANIZER;CN="Springs RV Social":MAILTO:events@springsrv.com
END:VEVENT
BEGIN:VEVENT
DTSTART;TZID=America/Vancouver:20250830T080000
DTEND;TZID=America/Vancouver:20250830T130000
DTSTAMP:20260425T091229
CREATED:20250715T131831Z
LAST-MODIFIED:20250806T182231Z
UID:9687-1756540800-1756558800@springsrv.com
SUMMARY:360 Coffee Point Cafe at the springs!
DESCRIPTION:Hit the cafe on site! Grab your morning coffee\, sweet treat\, breakfast snack or blended drink from the coffee truck this morning from the coffee food truck!
URL:https://springsrv.com/event/360-coffee-point-cafe-at-the-springs/
LOCATION:Office\, 670 Hot Springs Road\, Harrison Hot Springs\, BC\, V0M 1K0\, Canada
END:VEVENT
BEGIN:VEVENT
DTSTART;TZID=America/Vancouver:20250829T200000
DTEND;TZID=America/Vancouver:20250829T220000
DTSTAMP:20260425T091229
CREATED:20250408T164325Z
LAST-MODIFIED:20250806T183000Z
UID:8536-1756497600-1756504800@springsrv.com
SUMMARY:Pub Trivia Night!
DESCRIPTION:Trivia night! Register your teams at the office\, adults only.
URL:https://springsrv.com/event/pub-trivia-night-3/
LOCATION:Social Pavilion\, 670 Hot Springs Rd.\, Harrison Hot Springs\, British Columbia\, V0M 1K0\, Canada
END:VEVENT
BEGIN:VEVENT
DTSTART;TZID=America/Vancouver:20250829T180000
DTEND;TZID=America/Vancouver:20250829T190000
DTSTAMP:20260425T091229
CREATED:20250408T172359Z
LAST-MODIFIED:20250829T220034Z
UID:8533-1756490400-1756494000@springsrv.com
SUMMARY:Western Weekend Friday Night Burgers
DESCRIPTION:Your burger will also come with two side options
URL:https://springsrv.com/event/friday-night-burgers-14/
LOCATION:Social Pavilion\, 670 Hot Springs Rd.\, Harrison Hot Springs\, British Columbia\, V0M 1K0\, Canada
ATTACH;FMTTYPE=image/png:https://springsrv.com/wp-content/uploads/2024/05/July-5-Burger-Night-1-1.png
END:VEVENT
BEGIN:VEVENT
DTSTART;TZID=America/Vancouver:20250829T091500
DTEND;TZID=America/Vancouver:20250829T100000
DTSTAMP:20260425T091229
CREATED:20240520T205902Z
LAST-MODIFIED:20250408T182305Z
UID:5623-1756458900-1756461600@springsrv.com
SUMMARY:Aqua Fit
DESCRIPTION:
URL:https://springsrv.com/event/aqua-fit-7/
LOCATION:Family Pool\, 670 Hot Springs Road\, Harrison Hot Springs\, BC\, V0M 1K0\, Canada
ATTACH;FMTTYPE=image/png:https://springsrv.com/wp-content/uploads/2024/06/Screen-Shot-2024-06-24-at-1.06.48-PM.png
ORGANIZER;CN="Springs RV Social":MAILTO:events@springsrv.com
END:VEVENT
BEGIN:VEVENT
DTSTART;TZID=America/Vancouver:20250824T091500
DTEND;TZID=America/Vancouver:20250824T100000
DTSTAMP:20260425T091229
CREATED:20240520T210621Z
LAST-MODIFIED:20250408T182220Z
UID:5629-1756026900-1756029600@springsrv.com
SUMMARY:Aqua Fit
DESCRIPTION:
URL:https://springsrv.com/event/aqua-fit-9/
LOCATION:Family Pool\, 670 Hot Springs Road\, Harrison Hot Springs\, BC\, V0M 1K0\, Canada
ATTACH;FMTTYPE=image/png:https://springsrv.com/wp-content/uploads/2024/06/Screen-Shot-2024-06-24-at-1.06.48-PM.png
ORGANIZER;CN="Springs RV Social":MAILTO:events@springsrv.com
END:VEVENT
BEGIN:VEVENT
DTSTART;TZID=America/Vancouver:20250823T180000
DTEND;TZID=America/Vancouver:20250823T200000
DTSTAMP:20260425T091229
CREATED:20240624T032128Z
LAST-MODIFIED:20250811T222841Z
UID:6313-1755972000-1755979200@springsrv.com
SUMMARY:Halloween Trick or Treating & Dance
DESCRIPTION:Self-guided trick or treating throughout the park at 6pm. Parent participation & supervision required. Halloween dance to follow 6-8pm. Prizes for best costumes and best decorated lot .
URL:https://springsrv.com/event/kids-day-halloween-at-the-springs/
LOCATION:Social Pavilion\, 670 Hot Springs Rd.\, Harrison Hot Springs\, British Columbia\, V0M 1K0\, Canada
ATTACH;FMTTYPE=image/png:https://springsrv.com/wp-content/uploads/2024/06/Screen-Shot-2024-07-23-at-10.02.47-AM.png
END:VEVENT
BEGIN:VEVENT
DTSTART;TZID=America/Vancouver:20250823T091500
DTEND;TZID=America/Vancouver:20250823T100000
DTSTAMP:20260425T091229
CREATED:20240520T210833Z
LAST-MODIFIED:20250408T182132Z
UID:5632-1755940500-1755943200@springsrv.com
SUMMARY:Aqua Fit
DESCRIPTION:
URL:https://springsrv.com/event/aqua-fit-10/
LOCATION:Family Pool\, 670 Hot Springs Road\, Harrison Hot Springs\, BC\, V0M 1K0\, Canada
ATTACH;FMTTYPE=image/png:https://springsrv.com/wp-content/uploads/2024/06/Screen-Shot-2024-06-24-at-1.06.48-PM.png
ORGANIZER;CN="Springs RV Social":MAILTO:events@springsrv.com
END:VEVENT
BEGIN:VEVENT
DTSTART;TZID=America/Vancouver:20250822T200000
DTEND;TZID=America/Vancouver:20250822T210000
DTSTAMP:20260425T091229
CREATED:20250408T165955Z
LAST-MODIFIED:20250811T223139Z
UID:8539-1755892800-1755896400@springsrv.com
SUMMARY:Kids Club Movie Night
DESCRIPTION:Halloween weekend! Halloween movie night! Parent participation/ supervision required
URL:https://springsrv.com/event/kids-club-movie-night-8/
LOCATION:Social Pavilion\, 670 Hot Springs Rd.\, Harrison Hot Springs\, British Columbia\, V0M 1K0\, Canada
ATTACH;FMTTYPE=image/png:https://springsrv.com/wp-content/uploads/2024/05/Kids-Club.png
ORGANIZER;CN="Springs RV Social":MAILTO:events@springsrv.com
END:VEVENT
BEGIN:VEVENT
DTSTART;TZID=America/Vancouver:20250822T180000
DTEND;TZID=America/Vancouver:20250822T190000
DTSTAMP:20260425T091229
CREATED:20250408T170950Z
LAST-MODIFIED:20250821T223643Z
UID:8532-1755885600-1755889200@springsrv.com
SUMMARY:Friday Night Burgers
DESCRIPTION:Your burger will also come with two side options
URL:https://springsrv.com/event/friday-night-burgers-13/
LOCATION:Social Pavilion\, 670 Hot Springs Rd.\, Harrison Hot Springs\, British Columbia\, V0M 1K0\, Canada
ATTACH;FMTTYPE=image/png:https://springsrv.com/wp-content/uploads/2024/05/July-5-Burger-Night-1-1.png
END:VEVENT
BEGIN:VEVENT
DTSTART;TZID=America/Vancouver:20250822T091500
DTEND;TZID=America/Vancouver:20250822T100000
DTSTAMP:20260425T091229
CREATED:20240520T211004Z
LAST-MODIFIED:20250408T181923Z
UID:5635-1755854100-1755856800@springsrv.com
SUMMARY:Aqua Fit
DESCRIPTION:
URL:https://springsrv.com/event/aqua-fit-11/
LOCATION:Family Pool\, 670 Hot Springs Road\, Harrison Hot Springs\, BC\, V0M 1K0\, Canada
ATTACH;FMTTYPE=image/png:https://springsrv.com/wp-content/uploads/2024/06/Screen-Shot-2024-06-24-at-1.06.48-PM.png
ORGANIZER;CN="Springs RV Social":MAILTO:events@springsrv.com
END:VEVENT
BEGIN:VEVENT
DTSTART;TZID=America/Vancouver:20250822T080000
DTEND;TZID=America/Vancouver:20250824T170000
DTSTAMP:20260425T091229
CREATED:20250408T170143Z
LAST-MODIFIED:20250811T222943Z
UID:8568-1755849600-1756054800@springsrv.com
SUMMARY:Self Guided Halloween lot walk
DESCRIPTION:Decorate your lots for Halloween and the trick or treaters! Self-guided park walk at dusk. Prizes for the best-decorated lots on Saturday!
URL:https://springsrv.com/event/self-guided-halloween-lot-walk/
LOCATION:British Columbia
END:VEVENT
BEGIN:VEVENT
DTSTART;TZID=America/Vancouver:20250817T091500
DTEND;TZID=America/Vancouver:20250817T100000
DTSTAMP:20260425T091229
CREATED:20240525T171650Z
LAST-MODIFIED:20250408T181607Z
UID:5646-1755422100-1755424800@springsrv.com
SUMMARY:Aqua Fit
DESCRIPTION:
URL:https://springsrv.com/event/aqua-fit-12/
LOCATION:Family Pool\, 670 Hot Springs Road\, Harrison Hot Springs\, BC\, V0M 1K0\, Canada
ATTACH;FMTTYPE=image/png:https://springsrv.com/wp-content/uploads/2024/06/Screen-Shot-2024-06-24-at-1.06.48-PM.png
ORGANIZER;CN="Springs RV Social":MAILTO:events@springsrv.com
END:VEVENT
BEGIN:VEVENT
DTSTART;TZID=America/Vancouver:20250816T200000
DTEND;TZID=America/Vancouver:20250816T223000
DTSTAMP:20260425T091229
CREATED:20250408T172203Z
LAST-MODIFIED:20250811T223357Z
UID:8590-1755374400-1755383400@springsrv.com
SUMMARY:Karaoke Night Live! At The Springs
DESCRIPTION:
URL:https://springsrv.com/event/karaoke-night-live-at-the-springs/
LOCATION:Social Pavilion\, 670 Hot Springs Rd.\, Harrison Hot Springs\, British Columbia\, V0M 1K0\, Canada
ATTACH;FMTTYPE=image/jpeg:https://springsrv.com/wp-content/uploads/2024/07/IMG_1062.jpeg
ORGANIZER;CN="Springs RV Social":MAILTO:events@springsrv.com
END:VEVENT
BEGIN:VEVENT
DTSTART;TZID=America/Vancouver:20250816T150000
DTEND;TZID=America/Vancouver:20250816T170000
DTSTAMP:20260425T091229
CREATED:20240731T202726Z
LAST-MODIFIED:20250811T223237Z
UID:7439-1755356400-1755363600@springsrv.com
SUMMARY:Chili Cook Off
DESCRIPTION:Springs Chili cook off! Come to taste or come to compete. Sign up at the office or on our Facebook page to compete. Grand prize for best chili in the park!
URL:https://springsrv.com/event/chili-cook-off/
LOCATION:Social Pavilion\, 670 Hot Springs Rd.\, Harrison Hot Springs\, British Columbia\, V0M 1K0\, Canada
ORGANIZER;CN="Springs RV Social":MAILTO:events@springsrv.com
END:VEVENT
BEGIN:VEVENT
DTSTART;TZID=America/Vancouver:20250816T091500
DTEND;TZID=America/Vancouver:20250816T100000
DTSTAMP:20260425T091229
CREATED:20240525T171800Z
LAST-MODIFIED:20250408T181530Z
UID:5649-1755335700-1755338400@springsrv.com
SUMMARY:Aqua Fit
DESCRIPTION:
URL:https://springsrv.com/event/aqua-fit-13/
LOCATION:Family Pool\, 670 Hot Springs Road\, Harrison Hot Springs\, BC\, V0M 1K0\, Canada
ATTACH;FMTTYPE=image/png:https://springsrv.com/wp-content/uploads/2024/06/Screen-Shot-2024-06-24-at-1.06.48-PM.png
ORGANIZER;CN="Springs RV Social":MAILTO:events@springsrv.com
END:VEVENT
BEGIN:VEVENT
DTSTART;TZID=America/Vancouver:20250815T190000
DTEND;TZID=America/Vancouver:20250815T220000
DTSTAMP:20260425T091229
CREATED:20250408T171213Z
LAST-MODIFIED:20250811T223601Z
UID:8537-1755284400-1755295200@springsrv.com
SUMMARY:Games/Cards Night
DESCRIPTION:Games and cards  at the adult clubhouse.7:00-10:00pm
URL:https://springsrv.com/event/pub-trivia-night-4/
LOCATION:North Clubhouse\, 670 Hot Springs Road\, Harrison Hot Springs\, BC\, V0M1K0\, Canada
END:VEVENT
BEGIN:VEVENT
DTSTART;TZID=America/Vancouver:20250815T180000
DTEND;TZID=America/Vancouver:20250815T190000
DTSTAMP:20260425T091229
CREATED:20250408T165815Z
LAST-MODIFIED:20250815T175043Z
UID:8531-1755280800-1755284400@springsrv.com
SUMMARY:Friday Night Burgers
DESCRIPTION:Your burger will also come with two side options
URL:https://springsrv.com/event/friday-night-burgers-12/
LOCATION:Social Pavilion\, 670 Hot Springs Rd.\, Harrison Hot Springs\, British Columbia\, V0M 1K0\, Canada
ATTACH;FMTTYPE=image/png:https://springsrv.com/wp-content/uploads/2024/05/Screen-Shot-2024-06-18-at-4.28.43-PM.png
END:VEVENT
BEGIN:VEVENT
DTSTART;TZID=America/Vancouver:20250815T091500
DTEND;TZID=America/Vancouver:20250815T100000
DTSTAMP:20260425T091229
CREATED:20240525T171936Z
LAST-MODIFIED:20250408T181459Z
UID:5652-1755249300-1755252000@springsrv.com
SUMMARY:Aqua Fit
DESCRIPTION:
URL:https://springsrv.com/event/aqua-fit-14/
LOCATION:Family Pool\, 670 Hot Springs Road\, Harrison Hot Springs\, BC\, V0M 1K0\, Canada
ATTACH;FMTTYPE=image/png:https://springsrv.com/wp-content/uploads/2024/06/Screen-Shot-2024-06-24-at-1.06.48-PM.png
ORGANIZER;CN="Springs RV Social":MAILTO:events@springsrv.com
END:VEVENT
BEGIN:VEVENT
DTSTART;TZID=America/Vancouver:20250810T091500
DTEND;TZID=America/Vancouver:20250810T100000
DTSTAMP:20260425T091229
CREATED:20240525T172049Z
LAST-MODIFIED:20250408T181409Z
UID:5656-1754817300-1754820000@springsrv.com
SUMMARY:Aqua Fit
DESCRIPTION:
URL:https://springsrv.com/event/aqua-fit-15/
LOCATION:Family Pool\, 670 Hot Springs Road\, Harrison Hot Springs\, BC\, V0M 1K0\, Canada
ATTACH;FMTTYPE=image/png:https://springsrv.com/wp-content/uploads/2024/06/Screen-Shot-2024-06-24-at-1.06.48-PM.png
ORGANIZER;CN="Springs RV Social":MAILTO:events@springsrv.com
END:VEVENT
END:VCALENDAR