BEGIN:VCALENDAR
VERSION:2.0
PRODID:-//Springs RV Resort - ECPv6.15.15//NONSGML v1.0//EN
CALSCALE:GREGORIAN
METHOD:PUBLISH
X-WR-CALNAME:Springs RV Resort
X-ORIGINAL-URL:https://springsrv.com
X-WR-CALDESC:Events for Springs RV Resort
REFRESH-INTERVAL;VALUE=DURATION:PT1H
X-Robots-Tag:noindex
X-PUBLISHED-TTL:PT1H
BEGIN:VTIMEZONE
TZID:America/Vancouver
BEGIN:DAYLIGHT
TZOFFSETFROM:-0800
TZOFFSETTO:-0700
TZNAME:PDT
DTSTART:20240310T100000
END:DAYLIGHT
BEGIN:STANDARD
TZOFFSETFROM:-0700
TZOFFSETTO:-0800
TZNAME:PST
DTSTART:20241103T090000
END:STANDARD
BEGIN:DAYLIGHT
TZOFFSETFROM:-0800
TZOFFSETTO:-0700
TZNAME:PDT
DTSTART:20250309T100000
END:DAYLIGHT
BEGIN:STANDARD
TZOFFSETFROM:-0700
TZOFFSETTO:-0800
TZNAME:PST
DTSTART:20251102T090000
END:STANDARD
BEGIN:DAYLIGHT
TZOFFSETFROM:-0800
TZOFFSETTO:-0700
TZNAME:PDT
DTSTART:20260308T100000
END:DAYLIGHT
BEGIN:STANDARD
TZOFFSETFROM:-0700
TZOFFSETTO:-0800
TZNAME:PST
DTSTART:20261101T090000
END:STANDARD
END:VTIMEZONE
BEGIN:VEVENT
DTSTART;TZID=America/Vancouver:20250801T180000
DTEND;TZID=America/Vancouver:20250801T190000
DTSTAMP:20260425T203254
CREATED:20250721T142754Z
LAST-MODIFIED:20250721T142754Z
UID:9804-1754071200-1754074800@springsrv.com
SUMMARY:Taco night
DESCRIPTION:Grab a taco plate with 2 tacos and Mexican street corn for $10
URL:https://springsrv.com/event/taco-night/
LOCATION:Social Pavilion\, 670 Hot Springs Rd.\, Harrison Hot Springs\, British Columbia\, V0M 1K0\, Canada
END:VEVENT
BEGIN:VEVENT
DTSTART;TZID=America/Vancouver:20250801T091500
DTEND;TZID=America/Vancouver:20250801T100000
DTSTAMP:20260425T203254
CREATED:20240529T032858Z
LAST-MODIFIED:20250408T180936Z
UID:5855-1754039700-1754042400@springsrv.com
SUMMARY:Aqua Fit
DESCRIPTION:
URL:https://springsrv.com/event/aqua-fit-24/
LOCATION:Family Pool\, 670 Hot Springs Road\, Harrison Hot Springs\, BC\, V0M 1K0\, Canada
ATTACH;FMTTYPE=image/png:https://springsrv.com/wp-content/uploads/2024/06/Screen-Shot-2024-06-24-at-1.06.48-PM.png
ORGANIZER;CN="Springs RV Social":MAILTO:events@springsrv.com
END:VEVENT
BEGIN:VEVENT
DTSTART;TZID=America/Vancouver:20250727T091500
DTEND;TZID=America/Vancouver:20250727T100000
DTSTAMP:20260425T203254
CREATED:20240529T033018Z
LAST-MODIFIED:20250408T180833Z
UID:5858-1753607700-1753610400@springsrv.com
SUMMARY:Aqua Fit
DESCRIPTION:
URL:https://springsrv.com/event/aqua-fit-25/
LOCATION:Family Pool\, 670 Hot Springs Road\, Harrison Hot Springs\, BC\, V0M 1K0\, Canada
ATTACH;FMTTYPE=image/png:https://springsrv.com/wp-content/uploads/2024/06/Screen-Shot-2024-06-24-at-1.06.48-PM.png
ORGANIZER;CN="Springs RV Social":MAILTO:events@springsrv.com
END:VEVENT
BEGIN:VEVENT
DTSTART;TZID=America/Vancouver:20250726T180000
DTEND;TZID=America/Vancouver:20250726T230000
DTSTAMP:20260425T203254
CREATED:20250408T162553Z
LAST-MODIFIED:20250909T180033Z
UID:8519-1753552800-1753570800@springsrv.com
SUMMARY:Christmas in July Dinner & Dance (Dress your best!)
DESCRIPTION:Turkey Dinner with all the fixings. Dance to follow. Dress your best! Black tie event springs style! Photobooth\, come early for pictures with Santa!
URL:https://springsrv.com/event/christmas-in-july-dinner-dance/
LOCATION:Springs RV Resort Pavilion\, 670 Hot Springs Road\, Harrison Hot Springs\, BC\, V0M 1K0\, Canada
END:VEVENT
BEGIN:VEVENT
DTSTART;TZID=America/Vancouver:20250726T163000
DTEND;TZID=America/Vancouver:20250726T180000
DTSTAMP:20260425T203254
CREATED:20250408T163032Z
LAST-MODIFIED:20250422T165909Z
UID:8527-1753547400-1753552800@springsrv.com
SUMMARY:Santa at the Springs!
DESCRIPTION:Santa!! I know him! Come meet Santa before dinner. Kids foam party ticket includes a digital photo with Santa.
URL:https://springsrv.com/event/santa-at-the-springs/
LOCATION:BC
END:VEVENT
BEGIN:VEVENT
DTSTART;TZID=America/Vancouver:20250726T130000
DTEND;TZID=America/Vancouver:20250726T140000
DTSTAMP:20260425T203254
CREATED:20250408T161923Z
LAST-MODIFIED:20250726T153442Z
UID:8515-1753534800-1753538400@springsrv.com
SUMMARY:FOAM PARTY
DESCRIPTION:Christmas weekend! No snow\, no problem\, we’re having a foam party! Swimsuits recommended.  Kids event. Parent participation/ supervision required.
URL:https://springsrv.com/event/foam-party/
LOCATION:Back 40
END:VEVENT
BEGIN:VEVENT
DTSTART;TZID=America/Vancouver:20250726T091500
DTEND;TZID=America/Vancouver:20250726T100000
DTSTAMP:20260425T203254
CREATED:20240529T033120Z
LAST-MODIFIED:20250408T180745Z
UID:5861-1753521300-1753524000@springsrv.com
SUMMARY:Aqua Fit
DESCRIPTION:
URL:https://springsrv.com/event/aqua-fit-26/
LOCATION:Family Pool\, 670 Hot Springs Road\, Harrison Hot Springs\, BC\, V0M 1K0\, Canada
ATTACH;FMTTYPE=image/png:https://springsrv.com/wp-content/uploads/2024/06/Screen-Shot-2024-06-24-at-1.06.48-PM.png
ORGANIZER;CN="Springs RV Social":MAILTO:events@springsrv.com
END:VEVENT
BEGIN:VEVENT
DTSTART;TZID=America/Vancouver:20250725T200000
DTEND;TZID=America/Vancouver:20250725T210000
DTSTAMP:20260425T203254
CREATED:20250408T155549Z
LAST-MODIFIED:20250715T131232Z
UID:8499-1753473600-1753477200@springsrv.com
SUMMARY:Twas the night before Christmas  Kids Club Movie Night
DESCRIPTION:– “‘Twas the Night Before Christmas” Decorating Party & Kids Movie Night. Join us at the pavilion in your cozy Christmas PJs for holiday tunes\, a classic Christmas movie\, and festive decorating fun! \nHelp us get the pavilion ready for Christmas. Come decorate some Christmas cookies! \n  \n  \nChristmas weekend! Christmas movie night! Parent participation/ supervision required
URL:https://springsrv.com/event/kids-club-movie-night-5/
LOCATION:Social Pavilion\, 670 Hot Springs Rd.\, Harrison Hot Springs\, British Columbia\, V0M 1K0\, Canada
ATTACH;FMTTYPE=image/png:https://springsrv.com/wp-content/uploads/2024/05/Kids-Club.png
ORGANIZER;CN="Springs RV Social":MAILTO:events@springsrv.com
END:VEVENT
BEGIN:VEVENT
DTSTART;TZID=America/Vancouver:20250725T091500
DTEND;TZID=America/Vancouver:20250725T100000
DTSTAMP:20260425T203254
CREATED:20240529T033231Z
LAST-MODIFIED:20250408T180628Z
UID:5864-1753434900-1753437600@springsrv.com
SUMMARY:Aqua Fit
DESCRIPTION:
URL:https://springsrv.com/event/aqua-fit-27/
LOCATION:Family Pool\, 670 Hot Springs Road\, Harrison Hot Springs\, BC\, V0M 1K0\, Canada
ATTACH;FMTTYPE=image/png:https://springsrv.com/wp-content/uploads/2024/06/Screen-Shot-2024-06-24-at-1.06.48-PM.png
ORGANIZER;CN="Springs RV Social":MAILTO:events@springsrv.com
END:VEVENT
BEGIN:VEVENT
DTSTART;TZID=America/Vancouver:20250725T080000
DTEND;TZID=America/Vancouver:20250727T170000
DTSTAMP:20260425T203254
CREATED:20250408T155841Z
LAST-MODIFIED:20250408T155841Z
UID:8502-1753430400-1753635600@springsrv.com
SUMMARY:Self Guided Christmas lot walk
DESCRIPTION:Decorate your lots for Christmas! Self-guided park walk at dusk. Prizes for the best-decorated lots on Saturday!
URL:https://springsrv.com/event/self-guided-christmas-lot-walk/
LOCATION:BC
END:VEVENT
BEGIN:VEVENT
DTSTART;TZID=America/Vancouver:20250720T091500
DTEND;TZID=America/Vancouver:20250720T100000
DTSTAMP:20260425T203254
CREATED:20240529T033342Z
LAST-MODIFIED:20250408T180540Z
UID:5867-1753002900-1753005600@springsrv.com
SUMMARY:Aqua Fit
DESCRIPTION:
URL:https://springsrv.com/event/aqua-fit-28/
LOCATION:Family Pool\, 670 Hot Springs Road\, Harrison Hot Springs\, BC\, V0M 1K0\, Canada
ATTACH;FMTTYPE=image/png:https://springsrv.com/wp-content/uploads/2024/06/Screen-Shot-2024-06-24-at-1.06.48-PM.png
ORGANIZER;CN="Springs RV Social":MAILTO:events@springsrv.com
END:VEVENT
BEGIN:VEVENT
DTSTART;TZID=America/Vancouver:20250719T200000
DTEND;TZID=America/Vancouver:20250719T210000
DTSTAMP:20260425T203254
CREATED:20250715T131000Z
LAST-MODIFIED:20250715T131000Z
UID:9681-1752955200-1752958800@springsrv.com
SUMMARY:Teen pool party
DESCRIPTION:Teen Pool Party (Family Pool) \nVolleyball nets\, music\, and poolside fun just for the teens (ages 12+). \n\nNote: Youth 14 and under must be accompanied by an adult as per pool rules.
URL:https://springsrv.com/event/teen-pool-party/
LOCATION:BC
END:VEVENT
BEGIN:VEVENT
DTSTART;TZID=America/Vancouver:20250719T110000
DTEND;TZID=America/Vancouver:20250719T120000
DTSTAMP:20260425T203254
CREATED:20250407T210840Z
LAST-MODIFIED:20250422T164609Z
UID:8494-1752922800-1752926400@springsrv.com
SUMMARY:Teddy Bear Picnic
DESCRIPTION:Bring a bear\, a blanket and a treat to share. Craft. Parent participated event.
URL:https://springsrv.com/event/teddy-bear-picnic/
LOCATION:BC
END:VEVENT
BEGIN:VEVENT
DTSTART;TZID=America/Vancouver:20250719T091500
DTEND;TZID=America/Vancouver:20250719T100000
DTSTAMP:20260425T203254
CREATED:20240529T033445Z
LAST-MODIFIED:20250408T180454Z
UID:5870-1752916500-1752919200@springsrv.com
SUMMARY:Aqua Fit
DESCRIPTION:
URL:https://springsrv.com/event/aqua-fit-29/
LOCATION:Family Pool\, 670 Hot Springs Road\, Harrison Hot Springs\, BC\, V0M 1K0\, Canada
ATTACH;FMTTYPE=image/png:https://springsrv.com/wp-content/uploads/2024/06/Screen-Shot-2024-06-24-at-1.06.48-PM.png
ORGANIZER;CN="Springs RV Social":MAILTO:events@springsrv.com
END:VEVENT
BEGIN:VEVENT
DTSTART;TZID=America/Vancouver:20250718T180000
DTEND;TZID=America/Vancouver:20250718T200000
DTSTAMP:20260425T203254
CREATED:20250408T165027Z
LAST-MODIFIED:20250715T130747Z
UID:8538-1752861600-1752868800@springsrv.com
SUMMARY:Springs Friday Night Social
DESCRIPTION:Springs Social Hour \nSlip n’ Slide and water games for the kids\, cornhole\, and music! Come hang out with friends and neighbours!
URL:https://springsrv.com/event/springs-friday-night-social/
LOCATION:Social Pavilion\, 670 Hot Springs Rd.\, Harrison Hot Springs\, British Columbia\, V0M 1K0\, Canada
ATTACH;FMTTYPE=image/png:https://springsrv.com/wp-content/uploads/2024/05/Screen-Shot-2024-07-30-at-8.44.56-AM.png
ORGANIZER;CN="Springs RV Social":MAILTO:events@springsrv.com
END:VEVENT
BEGIN:VEVENT
DTSTART;TZID=America/Vancouver:20250718T180000
DTEND;TZID=America/Vancouver:20250718T190000
DTSTAMP:20260425T203254
CREATED:20250407T203443Z
LAST-MODIFIED:20250718T205847Z
UID:8453-1752861600-1752865200@springsrv.com
SUMMARY:Friday Night Burgers
DESCRIPTION:Your burger will also come with two side options
URL:https://springsrv.com/event/friday-night-burgers-8/
LOCATION:Social Pavilion\, 670 Hot Springs Rd.\, Harrison Hot Springs\, British Columbia\, V0M 1K0\, Canada
ATTACH;FMTTYPE=image/png:https://springsrv.com/wp-content/uploads/2024/05/July-5-Burger-Night-1-1.png
END:VEVENT
BEGIN:VEVENT
DTSTART;TZID=America/Vancouver:20250718T091500
DTEND;TZID=America/Vancouver:20250718T100000
DTSTAMP:20260425T203254
CREATED:20240715T212246Z
LAST-MODIFIED:20250408T180338Z
UID:6900-1752830100-1752832800@springsrv.com
SUMMARY:Aqua Fit
DESCRIPTION:
URL:https://springsrv.com/event/aqua-fit-2/
LOCATION:Family Pool\, 670 Hot Springs Road\, Harrison Hot Springs\, BC\, V0M 1K0\, Canada
ATTACH;FMTTYPE=image/png:https://springsrv.com/wp-content/uploads/2024/06/Screen-Shot-2024-06-24-at-1.06.48-PM.png
ORGANIZER;CN="Springs RV Social":MAILTO:events@springsrv.com
END:VEVENT
BEGIN:VEVENT
DTSTART;TZID=America/Vancouver:20250713T091500
DTEND;TZID=America/Vancouver:20250713T100000
DTSTAMP:20260425T203254
CREATED:20240715T212319Z
LAST-MODIFIED:20250408T180246Z
UID:6902-1752398100-1752400800@springsrv.com
SUMMARY:Aqua Fit
DESCRIPTION:
URL:https://springsrv.com/event/aqua-fit-8/
LOCATION:Family Pool\, 670 Hot Springs Road\, Harrison Hot Springs\, BC\, V0M 1K0\, Canada
ATTACH;FMTTYPE=image/png:https://springsrv.com/wp-content/uploads/2024/06/Screen-Shot-2024-06-24-at-1.06.48-PM.png
ORGANIZER;CN="Springs RV Social":MAILTO:events@springsrv.com
END:VEVENT
BEGIN:VEVENT
DTSTART;TZID=America/Vancouver:20250712T120000
DTEND;TZID=America/Vancouver:20250712T170000
DTSTAMP:20260425T203254
CREATED:20250407T210110Z
LAST-MODIFIED:20250422T163456Z
UID:8488-1752321600-1752339600@springsrv.com
SUMMARY:Food Trucks at the Springs
DESCRIPTION:Food trucks! Drop in style food trucks\, enjoy a snack or meal.
URL:https://springsrv.com/event/food-trucks-at-the-springs/
LOCATION:BC
END:VEVENT
BEGIN:VEVENT
DTSTART;TZID=America/Vancouver:20250712T091500
DTEND;TZID=America/Vancouver:20250712T100000
DTSTAMP:20260425T203254
CREATED:20240715T212420Z
LAST-MODIFIED:20250408T180149Z
UID:6904-1752311700-1752314400@springsrv.com
SUMMARY:Aqua Fit
DESCRIPTION:
URL:https://springsrv.com/event/aqua-fit-21/
LOCATION:Family Pool\, 670 Hot Springs Road\, Harrison Hot Springs\, BC\, V0M 1K0\, Canada
ATTACH;FMTTYPE=image/png:https://springsrv.com/wp-content/uploads/2024/06/Screen-Shot-2024-06-24-at-1.06.48-PM.png
ORGANIZER;CN="Springs RV Social":MAILTO:events@springsrv.com
END:VEVENT
BEGIN:VEVENT
DTSTART;TZID=America/Vancouver:20250711T180000
DTEND;TZID=America/Vancouver:20250711T200000
DTSTAMP:20260425T203254
CREATED:20240527T000114Z
LAST-MODIFIED:20250407T205256Z
UID:5752-1752256800-1752264000@springsrv.com
SUMMARY:Springs Friday Night Social
DESCRIPTION:
URL:https://springsrv.com/event/kids-club-movie-night-6/
LOCATION:Social Pavilion\, 670 Hot Springs Rd.\, Harrison Hot Springs\, British Columbia\, V0M 1K0\, Canada
ATTACH;FMTTYPE=image/png:https://springsrv.com/wp-content/uploads/2024/05/Screen-Shot-2024-07-30-at-8.44.56-AM.png
ORGANIZER;CN="Springs RV Social":MAILTO:events@springsrv.com
END:VEVENT
BEGIN:VEVENT
DTSTART;TZID=America/Vancouver:20250711T180000
DTEND;TZID=America/Vancouver:20250711T190000
DTSTAMP:20260425T203254
CREATED:20250407T203020Z
LAST-MODIFIED:20250711T155901Z
UID:8447-1752256800-1752260400@springsrv.com
SUMMARY:Friday Night Burgers
DESCRIPTION:Delicious Keg burgers\, potato salad\, and garden salad.\n$12 online | $15 at the door
URL:https://springsrv.com/event/friday-night-burgers-7/
LOCATION:Social Pavilion\, 670 Hot Springs Rd.\, Harrison Hot Springs\, British Columbia\, V0M 1K0\, Canada
ATTACH;FMTTYPE=image/png:https://springsrv.com/wp-content/uploads/2024/05/July-5-Burger-Night-1-1.png
END:VEVENT
BEGIN:VEVENT
DTSTART;TZID=America/Vancouver:20250711T091500
DTEND;TZID=America/Vancouver:20250711T100000
DTSTAMP:20260425T203254
CREATED:20250408T180102Z
LAST-MODIFIED:20250408T180102Z
UID:7601-1752225300-1752228000@springsrv.com
SUMMARY:Aqua Fit
DESCRIPTION:
URL:https://springsrv.com/event/aqua-fit-33/
LOCATION:Family Pool\, 670 Hot Springs Road\, Harrison Hot Springs\, BC\, V0M 1K0\, Canada
ATTACH;FMTTYPE=image/png:https://springsrv.com/wp-content/uploads/2024/06/Screen-Shot-2024-06-24-at-1.06.48-PM.png
ORGANIZER;CN="Springs RV Social":MAILTO:events@springsrv.com
END:VEVENT
BEGIN:VEVENT
DTSTART;TZID=America/Vancouver:20250706T091500
DTEND;TZID=America/Vancouver:20250706T100000
DTSTAMP:20260425T203254
CREATED:20240806T211851Z
LAST-MODIFIED:20250408T175949Z
UID:7602-1751793300-1751796000@springsrv.com
SUMMARY:Aqua Fit
DESCRIPTION:Adults only
URL:https://springsrv.com/event/aqua-fit-22/
LOCATION:Family Pool\, 670 Hot Springs Road\, Harrison Hot Springs\, BC\, V0M 1K0\, Canada
ATTACH;FMTTYPE=image/png:https://springsrv.com/wp-content/uploads/2024/06/Screen-Shot-2024-06-24-at-1.06.48-PM.png
ORGANIZER;CN="Springs RV Social":MAILTO:events@springsrv.com
END:VEVENT
BEGIN:VEVENT
DTSTART;TZID=America/Vancouver:20250705T110000
DTEND;TZID=America/Vancouver:20250705T120000
DTSTAMP:20260425T203254
CREATED:20240806T220754Z
LAST-MODIFIED:20250407T204922Z
UID:7610-1751713200-1751716800@springsrv.com
SUMMARY:Saturday Kids Craft
DESCRIPTION:
URL:https://springsrv.com/event/saturday-kids-craft-4/
LOCATION:Social Pavilion\, 670 Hot Springs Rd.\, Harrison Hot Springs\, British Columbia\, V0M 1K0\, Canada
ATTACH;FMTTYPE=image/png:https://springsrv.com/wp-content/uploads/2024/05/Screen-Shot-2024-06-22-at-1.54.46-PM.png
ORGANIZER;CN="Springs RV Social":MAILTO:events@springsrv.com
END:VEVENT
BEGIN:VEVENT
DTSTART;TZID=America/Vancouver:20250705T091500
DTEND;TZID=America/Vancouver:20250705T100000
DTSTAMP:20260425T203254
CREATED:20240806T211917Z
LAST-MODIFIED:20250408T175803Z
UID:7604-1751706900-1751709600@springsrv.com
SUMMARY:Aqua Fit
DESCRIPTION:Adults only
URL:https://springsrv.com/event/aqua-fit-30/
LOCATION:Family Pool\, 670 Hot Springs Road\, Harrison Hot Springs\, BC\, V0M 1K0\, Canada
ATTACH;FMTTYPE=image/png:https://springsrv.com/wp-content/uploads/2024/06/Screen-Shot-2024-06-24-at-1.06.48-PM.png
ORGANIZER;CN="Springs RV Social":MAILTO:events@springsrv.com
END:VEVENT
BEGIN:VEVENT
DTSTART;TZID=America/Vancouver:20250704T193000
DTEND;TZID=America/Vancouver:20250704T220000
DTSTAMP:20260425T203254
CREATED:20240731T194324Z
LAST-MODIFIED:20250702T171512Z
UID:7432-1751657400-1751666400@springsrv.com
SUMMARY:Pub Trivia Night!
DESCRIPTION:Trivia night! Register your teams at the office\, adults only
URL:https://springsrv.com/event/pub-trivia-night/
LOCATION:Social Pavilion\, 670 Hot Springs Rd.\, Harrison Hot Springs\, British Columbia\, V0M 1K0\, Canada
END:VEVENT
BEGIN:VEVENT
DTSTART;TZID=America/Vancouver:20250704T180000
DTEND;TZID=America/Vancouver:20250704T190000
DTSTAMP:20260425T203254
CREATED:20240525T174140Z
LAST-MODIFIED:20250704T000752Z
UID:5668-1751652000-1751655600@springsrv.com
SUMMARY:Friday Night Burgers
DESCRIPTION:Your burger will also come with two side options
URL:https://springsrv.com/event/friday-night-burgers/
LOCATION:Social Pavilion\, 670 Hot Springs Rd.\, Harrison Hot Springs\, British Columbia\, V0M 1K0\, Canada
ATTACH;FMTTYPE=image/png:https://springsrv.com/wp-content/uploads/2024/05/July-5-Burger-Night-1-1.png
END:VEVENT
BEGIN:VEVENT
DTSTART;TZID=America/Vancouver:20250704T091500
DTEND;TZID=America/Vancouver:20250704T100000
DTSTAMP:20260425T203254
CREATED:20240628T212007Z
LAST-MODIFIED:20250408T175631Z
UID:7608-1751620500-1751623200@springsrv.com
SUMMARY:Aqua Fit
DESCRIPTION:Adults only
URL:https://springsrv.com/event/aqua-fit-32/
LOCATION:Family Pool\, 670 Hot Springs Road\, Harrison Hot Springs\, BC\, V0M 1K0\, Canada
ATTACH;FMTTYPE=image/png:https://springsrv.com/wp-content/uploads/2024/06/Screen-Shot-2024-06-24-at-1.06.48-PM.png
ORGANIZER;CN="Springs RV Social":MAILTO:events@springsrv.com
END:VEVENT
BEGIN:VEVENT
DTSTART;TZID=America/Vancouver:20250701T110000
DTEND;TZID=America/Vancouver:20250701T120000
DTSTAMP:20260425T203254
CREATED:20240514T042458Z
LAST-MODIFIED:20250620T182427Z
UID:5402-1751367600-1751371200@springsrv.com
SUMMARY:Parade decorating  Kids Craft
DESCRIPTION:
URL:https://springsrv.com/event/saturday-kids-craft/
LOCATION:Social Pavilion\, 670 Hot Springs Rd.\, Harrison Hot Springs\, British Columbia\, V0M 1K0\, Canada
ATTACH;FMTTYPE=image/png:https://springsrv.com/wp-content/uploads/2024/05/Screen-Shot-2024-06-22-at-1.54.46-PM.png
ORGANIZER;CN="Springs RV Social":MAILTO:events@springsrv.com
END:VEVENT
END:VCALENDAR