BEGIN:VCALENDAR
VERSION:2.0
PRODID:-//Springs RV Resort - ECPv6.15.15//NONSGML v1.0//EN
CALSCALE:GREGORIAN
METHOD:PUBLISH
X-ORIGINAL-URL:https://springsrv.com
X-WR-CALDESC:Events for Springs RV Resort
REFRESH-INTERVAL;VALUE=DURATION:PT1H
X-Robots-Tag:noindex
X-PUBLISHED-TTL:PT1H
BEGIN:VTIMEZONE
TZID:America/Vancouver
BEGIN:DAYLIGHT
TZOFFSETFROM:-0800
TZOFFSETTO:-0700
TZNAME:PDT
DTSTART:20230312T100000
END:DAYLIGHT
BEGIN:STANDARD
TZOFFSETFROM:-0700
TZOFFSETTO:-0800
TZNAME:PST
DTSTART:20231105T090000
END:STANDARD
BEGIN:DAYLIGHT
TZOFFSETFROM:-0800
TZOFFSETTO:-0700
TZNAME:PDT
DTSTART:20240310T100000
END:DAYLIGHT
BEGIN:STANDARD
TZOFFSETFROM:-0700
TZOFFSETTO:-0800
TZNAME:PST
DTSTART:20241103T090000
END:STANDARD
BEGIN:DAYLIGHT
TZOFFSETFROM:-0800
TZOFFSETTO:-0700
TZNAME:PDT
DTSTART:20250309T100000
END:DAYLIGHT
BEGIN:STANDARD
TZOFFSETFROM:-0700
TZOFFSETTO:-0800
TZNAME:PST
DTSTART:20251102T090000
END:STANDARD
END:VTIMEZONE
BEGIN:VEVENT
DTSTART;TZID=America/Vancouver:20240804T130000
DTEND;TZID=America/Vancouver:20240804T150000
DTSTAMP:20260425T183651
CREATED:20240731T224546Z
LAST-MODIFIED:20240731T224608Z
UID:7450-1722776400-1722783600@springsrv.com
SUMMARY:Cornhole Concession
DESCRIPTION:$5 Hotdogs\, $1 chips\, $1 pop\, Candies\, popcorn and treats!
URL:https://springsrv.com/event/cornhole-concession/
LOCATION:Social Pavilion\, 670 Hot Springs Rd.\, Harrison Hot Springs\, British Columbia\, V0M 1K0\, Canada
ORGANIZER;CN="Springs RV Social":MAILTO:events@springsrv.com
END:VEVENT
BEGIN:VEVENT
DTSTART;TZID=America/Vancouver:20240804T100000
DTEND;TZID=America/Vancouver:20240804T150000
DTSTAMP:20260425T183651
CREATED:20240602T054146Z
LAST-MODIFIED:20240709T214025Z
UID:5983-1722765600-1722783600@springsrv.com
SUMMARY:Cornhole Tournament
DESCRIPTION:Springs RV Park Cornhole Tournament Tickets\, Sun\, Aug 4\, 2024 at 10:00 AM | Eventbrite \nJoin us for an exciting day of fun and friendly competition at the Springs RV Resort Cornhole Tournament! This event is perfect for players of all skill levels\, whether you’re a seasoned cornhole pro or a complete beginner looking to enjoy a fun day outdoors. \nDate: Sunday\, August 4\, 2024 \nTime: 10:00 AM – 4:00 PM\nRegistration begins at 10\, first game at 10:30am. \nLocation: Springs RV Resort Outdoor Clubhouse \nAddress: 670 Hot Springs Rd\, Harrison Hot Springs \nEvent Highlights: \n\nSingle Elimination Style\nPrizes: Grand Prize for Winning Team plus raffle prizes\nSpots: Sixteen Teams of Four Should be 16 teams of 2\nTeams: Fun team names and matching outfits are encouraged!\nBring Your Own: Food\, drinks\, lawn chairs\, competitive spirit and sportsmanship!\n\nDon’t miss out on this fantastic opportunity to showcase your cornhole skills and meet fellow enthusiasts. Register now and secure your spot in the ultimate backyard game showdown! ONLY 16 teams in the tournament\, so please register early through the EventBrite link. \nREGISTER HERE:  https://www.eventbrite.ca/e/springs-rv-park-cornhole-tournament-tickets-940489047057?aff=oddtdtcreator
URL:https://springsrv.com/event/cornhole-tournament/
LOCATION:Social Pavilion\, 670 Hot Springs Rd.\, Harrison Hot Springs\, British Columbia\, V0M 1K0\, Canada
ATTACH;FMTTYPE=image/png:https://springsrv.com/wp-content/uploads/2024/06/Screen-Shot-2024-07-05-at-10.17.05-AM.png
ORGANIZER;CN="Springs RV Social":MAILTO:events@springsrv.com
END:VEVENT
BEGIN:VEVENT
DTSTART;TZID=America/Vancouver:20240803T180000
DTEND;TZID=America/Vancouver:20240803T230000
DTSTAMP:20260425T183651
CREATED:20240602T053511Z
LAST-MODIFIED:20240802T222833Z
UID:5976-1722708000-1722726000@springsrv.com
SUMMARY:August Long Weekend Mexican Fiesta
DESCRIPTION:
URL:https://springsrv.com/event/august-long-weekend-mexican-fiesta/
LOCATION:Social Pavilion\, 670 Hot Springs Rd.\, Harrison Hot Springs\, British Columbia\, V0M 1K0\, Canada
ATTACH;FMTTYPE=image/png:https://springsrv.com/wp-content/uploads/2024/06/Screen-Shot-2024-07-23-at-11.20.10-AM.png
ORGANIZER;CN="Springs RV Social":MAILTO:events@springsrv.com
END:VEVENT
BEGIN:VEVENT
DTSTART;TZID=America/Vancouver:20240803T110000
DTEND;TZID=America/Vancouver:20240803T120000
DTSTAMP:20260425T183651
CREATED:20240529T034359Z
LAST-MODIFIED:20240624T024240Z
UID:5879-1722682800-1722686400@springsrv.com
SUMMARY:Saturday Kids Craft
DESCRIPTION:
URL:https://springsrv.com/event/saturday-kids-craft-6/
LOCATION:Social Pavilion\, 670 Hot Springs Rd.\, Harrison Hot Springs\, British Columbia\, V0M 1K0\, Canada
ATTACH;FMTTYPE=image/png:https://springsrv.com/wp-content/uploads/2024/05/Screen-Shot-2024-06-22-at-1.54.46-PM.png
ORGANIZER;CN="Springs RV Social":MAILTO:events@springsrv.com
END:VEVENT
BEGIN:VEVENT
DTSTART;TZID=America/Vancouver:20240727T110000
DTEND;TZID=America/Vancouver:20240727T120000
DTSTAMP:20260425T183651
CREATED:20240529T034241Z
LAST-MODIFIED:20240624T031449Z
UID:5876-1722078000-1722081600@springsrv.com
SUMMARY:Saturday Kids Craft
DESCRIPTION:
URL:https://springsrv.com/event/saturday-kids-craft-5/
LOCATION:Social Pavilion\, 670 Hot Springs Rd.\, Harrison Hot Springs\, British Columbia\, V0M 1K0\, Canada
ATTACH;FMTTYPE=image/png:https://springsrv.com/wp-content/uploads/2024/05/Screen-Shot-2024-06-22-at-1.54.46-PM.png
ORGANIZER;CN="Springs RV Social":MAILTO:events@springsrv.com
END:VEVENT
BEGIN:VEVENT
DTSTART;TZID=America/Vancouver:20240726T180000
DTEND;TZID=America/Vancouver:20240726T190000
DTSTAMP:20260425T183651
CREATED:20240526T185202Z
LAST-MODIFIED:20240725T161124Z
UID:5696-1722016800-1722020400@springsrv.com
SUMMARY:Friday Night Burgers- Bacon Cheeseburger Night
DESCRIPTION:Enjoy with corn on the cob and watermelon.
URL:https://springsrv.com/event/friday-night-burgers-4/
LOCATION:Social Pavilion\, 670 Hot Springs Rd.\, Harrison Hot Springs\, British Columbia\, V0M 1K0\, Canada
ATTACH;FMTTYPE=image/png:https://springsrv.com/wp-content/uploads/2024/05/Screen-Shot-2024-06-18-at-4.28.43-PM.png
END:VEVENT
BEGIN:VEVENT
DTSTART;TZID=America/Vancouver:20240720T190000
DTEND;TZID=America/Vancouver:20240720T210000
DTSTAMP:20260425T183651
CREATED:20240602T052212Z
LAST-MODIFIED:20240620T055535Z
UID:5969-1721502000-1721509200@springsrv.com
SUMMARY:Paint & Sip Night
DESCRIPTION:
URL:https://springsrv.com/event/paint-sip-night/
LOCATION:Social Pavilion\, 670 Hot Springs Rd.\, Harrison Hot Springs\, British Columbia\, V0M 1K0\, Canada
ATTACH;FMTTYPE=image/png:https://springsrv.com/wp-content/uploads/2024/06/July-13-Supper-Club.png
END:VEVENT
BEGIN:VEVENT
DTSTART;TZID=America/Vancouver:20240720T140000
DTEND;TZID=America/Vancouver:20240720T160000
DTSTAMP:20260425T183651
CREATED:20240624T032314Z
LAST-MODIFIED:20240715T232052Z
UID:6316-1721484000-1721491200@springsrv.com
SUMMARY:Kids Day- Adventure Day
DESCRIPTION:Bring your swimsuit!!
URL:https://springsrv.com/event/kids-day-adventure-day/
LOCATION:Social Pavilion\, 670 Hot Springs Rd.\, Harrison Hot Springs\, British Columbia\, V0M 1K0\, Canada
ATTACH;FMTTYPE=image/png:https://springsrv.com/wp-content/uploads/2024/06/Screen-Shot-2024-07-15-at-3.49.32-PM.png
END:VEVENT
BEGIN:VEVENT
DTSTART;TZID=America/Vancouver:20240719T200000
DTEND;TZID=America/Vancouver:20240719T210000
DTSTAMP:20260425T183651
CREATED:20240526T235848Z
LAST-MODIFIED:20240526T235848Z
UID:5748-1721419200-1721422800@springsrv.com
SUMMARY:Kids Club Movie Night
DESCRIPTION:
URL:https://springsrv.com/event/kids-club-movie-night-4/
LOCATION:Social Pavilion\, 670 Hot Springs Rd.\, Harrison Hot Springs\, British Columbia\, V0M 1K0\, Canada
ATTACH;FMTTYPE=image/png:https://springsrv.com/wp-content/uploads/2024/05/Kids-Club.png
ORGANIZER;CN="Springs RV Social":MAILTO:events@springsrv.com
END:VEVENT
BEGIN:VEVENT
DTSTART;TZID=America/Vancouver:20240719T180000
DTEND;TZID=America/Vancouver:20240719T190000
DTSTAMP:20260425T183651
CREATED:20240526T184902Z
LAST-MODIFIED:20240715T232308Z
UID:5686-1721412000-1721415600@springsrv.com
SUMMARY:Friday Night Burgers- Chicken Burger Night
DESCRIPTION:Enjoy your burger with a Summer salad & chips!
URL:https://springsrv.com/event/friday-night-burgers-3/
LOCATION:Social Pavilion\, 670 Hot Springs Rd.\, Harrison Hot Springs\, British Columbia\, V0M 1K0\, Canada
ATTACH;FMTTYPE=image/png:https://springsrv.com/wp-content/uploads/2024/05/Screen-Shot-2024-06-18-at-4.28.43-PM.png
END:VEVENT
BEGIN:VEVENT
DTSTART;TZID=America/Vancouver:20240713T110000
DTEND;TZID=America/Vancouver:20240713T120000
DTSTAMP:20260425T183651
CREATED:20240527T002442Z
LAST-MODIFIED:20240624T031114Z
UID:5821-1720868400-1720872000@springsrv.com
SUMMARY:Saturday Kids Craft
DESCRIPTION:
URL:https://springsrv.com/event/saturday-kids-craft-3/
LOCATION:Social Pavilion\, 670 Hot Springs Rd.\, Harrison Hot Springs\, British Columbia\, V0M 1K0\, Canada
ATTACH;FMTTYPE=image/png:https://springsrv.com/wp-content/uploads/2024/05/Screen-Shot-2024-06-22-at-1.54.46-PM.png
ORGANIZER;CN="Springs RV Social":MAILTO:events@springsrv.com
END:VEVENT
BEGIN:VEVENT
DTSTART;TZID=America/Vancouver:20240712T200000
DTEND;TZID=America/Vancouver:20240712T210000
DTSTAMP:20260425T183651
CREATED:20240526T235548Z
LAST-MODIFIED:20240526T235701Z
UID:5739-1720814400-1720818000@springsrv.com
SUMMARY:Kids Club Movie Night
DESCRIPTION:
URL:https://springsrv.com/event/kids-club-movie-night-3/
LOCATION:Social Pavilion\, 670 Hot Springs Rd.\, Harrison Hot Springs\, British Columbia\, V0M 1K0\, Canada
ATTACH;FMTTYPE=image/png:https://springsrv.com/wp-content/uploads/2024/05/Kids-Club.png
ORGANIZER;CN="Springs RV Social":MAILTO:events@springsrv.com
END:VEVENT
BEGIN:VEVENT
DTSTART;TZID=America/Vancouver:20240712T180000
DTEND;TZID=America/Vancouver:20240712T190000
DTSTAMP:20260425T183651
CREATED:20240525T194105Z
LAST-MODIFIED:20240709T212147Z
UID:5677-1720807200-1720810800@springsrv.com
SUMMARY:Friday Night Burgers- Mushroom Burger Night
DESCRIPTION:
URL:https://springsrv.com/event/friday-night-burgers-2/
LOCATION:Social Pavilion\, 670 Hot Springs Rd.\, Harrison Hot Springs\, British Columbia\, V0M 1K0\, Canada
ATTACH;FMTTYPE=image/png:https://springsrv.com/wp-content/uploads/2024/05/Screen-Shot-2024-06-18-at-4.28.43-PM.png
END:VEVENT
BEGIN:VEVENT
DTSTART;TZID=America/Vancouver:20240706T190000
DTEND;TZID=America/Vancouver:20240706T210000
DTSTAMP:20260425T183651
CREATED:20240602T045731Z
LAST-MODIFIED:20240602T045814Z
UID:5960-1720292400-1720299600@springsrv.com
SUMMARY:Saturday Games Night
DESCRIPTION:
URL:https://springsrv.com/event/saturday-games-night/
LOCATION:Social Pavilion\, 670 Hot Springs Rd.\, Harrison Hot Springs\, British Columbia\, V0M 1K0\, Canada
ATTACH;FMTTYPE=image/png:https://springsrv.com/wp-content/uploads/2024/06/July-7-Games-Night-.png
ORGANIZER;CN="Springs RV Social":MAILTO:events@springsrv.com
END:VEVENT
BEGIN:VEVENT
DTSTART;TZID=America/Vancouver:20240706T110000
DTEND;TZID=America/Vancouver:20240706T120000
DTSTAMP:20260425T183651
CREATED:20240527T002339Z
LAST-MODIFIED:20240623T235320Z
UID:5818-1720263600-1720267200@springsrv.com
SUMMARY:Saturday Kids Craft
DESCRIPTION:
URL:https://springsrv.com/event/saturday-kids-craft-2/
LOCATION:Social Pavilion\, 670 Hot Springs Rd.\, Harrison Hot Springs\, British Columbia\, V0M 1K0\, Canada
ATTACH;FMTTYPE=image/png:https://springsrv.com/wp-content/uploads/2024/05/Screen-Shot-2024-06-22-at-1.54.46-PM.png
ORGANIZER;CN="Springs RV Social":MAILTO:events@springsrv.com
END:VEVENT
BEGIN:VEVENT
DTSTART;TZID=America/Vancouver:20240706T091500
DTEND;TZID=America/Vancouver:20240706T100000
DTSTAMP:20260425T183651
CREATED:20240520T195840Z
LAST-MODIFIED:20240706T144539Z
UID:5606-1720257300-1720260000@springsrv.com
SUMMARY:Aqua Fit
DESCRIPTION:
URL:https://springsrv.com/event/aqua-fit-3/
LOCATION:Family Pool\, 670 Hot Springs Road\, Harrison Hot Springs\, BC\, V0M 1K0\, Canada
ATTACH;FMTTYPE=image/png:https://springsrv.com/wp-content/uploads/2024/06/Screen-Shot-2024-06-24-at-1.06.48-PM.png
ORGANIZER;CN="Springs RV Social":MAILTO:events@springsrv.com
END:VEVENT
BEGIN:VEVENT
DTSTART;TZID=America/Vancouver:20240705T200000
DTEND;TZID=America/Vancouver:20240705T210000
DTSTAMP:20260425T183651
CREATED:20240526T190012Z
LAST-MODIFIED:20240526T235747Z
UID:5726-1720209600-1720213200@springsrv.com
SUMMARY:Kids Club Movie Night
DESCRIPTION:
URL:https://springsrv.com/event/kids-club-movie-night-2/
LOCATION:Social Pavilion\, 670 Hot Springs Rd.\, Harrison Hot Springs\, British Columbia\, V0M 1K0\, Canada
ATTACH;FMTTYPE=image/png:https://springsrv.com/wp-content/uploads/2024/05/Kids-Club.png
ORGANIZER;CN="Springs RV Social":MAILTO:events@springsrv.com
END:VEVENT
BEGIN:VEVENT
DTSTART;TZID=America/Vancouver:20240701T140000
DTEND;TZID=America/Vancouver:20240701T160000
DTSTAMP:20260425T183651
CREATED:20240514T044243Z
LAST-MODIFIED:20240624T212502Z
UID:5417-1719842400-1719849600@springsrv.com
SUMMARY:Canada Day Parade
DESCRIPTION:Come decorate your bikes\, golf carts\, and faces from 2pm- 4pm at the Social Pavilion. Meet at the North Gate at 4:15pm so we can all cross the busy road together to arrive at the parade meeting spot (Harrison Hot Springs Elementary School) at 4:30pm. The parade starts at 5pm and ends around 6pm and we will all come back together. When we come back we will parade around the resort and celebrate Canada Day!
URL:https://springsrv.com/event/canada-day-parade/
LOCATION:Social Pavilion\, 670 Hot Springs Rd.\, Harrison Hot Springs\, British Columbia\, V0M 1K0\, Canada
ATTACH;FMTTYPE=image/png:https://springsrv.com/wp-content/uploads/2024/05/Screen-Shot-2024-05-13-at-9.37.17-PM.png
ORGANIZER;CN="Springs RV Social":MAILTO:events@springsrv.com
END:VEVENT
BEGIN:VEVENT
DTSTART;TZID=America/Vancouver:20240629T091500
DTEND;TZID=America/Vancouver:20240629T100000
DTSTAMP:20260425T183651
CREATED:20240514T042323Z
LAST-MODIFIED:20240624T211459Z
UID:5398-1719652500-1719655200@springsrv.com
SUMMARY:Aqua Fit
DESCRIPTION:
URL:https://springsrv.com/event/aqua-fit/
LOCATION:Family Pool\, 670 Hot Springs Road\, Harrison Hot Springs\, BC\, V0M 1K0\, Canada
ATTACH;FMTTYPE=image/png:https://springsrv.com/wp-content/uploads/2024/06/Screen-Shot-2024-06-24-at-1.06.48-PM.png
ORGANIZER;CN="Springs RV Social":MAILTO:events@springsrv.com
END:VEVENT
BEGIN:VEVENT
DTSTART;TZID=America/Vancouver:20240628T200000
DTEND;TZID=America/Vancouver:20240628T210000
DTSTAMP:20260425T183651
CREATED:20240514T042008Z
LAST-MODIFIED:20240526T235404Z
UID:5392-1719604800-1719608400@springsrv.com
SUMMARY:Kids Club Movie Night
DESCRIPTION:
URL:https://springsrv.com/event/kids-club-movie-night/
LOCATION:Social Pavilion\, 670 Hot Springs Rd.\, Harrison Hot Springs\, British Columbia\, V0M 1K0\, Canada
ATTACH;FMTTYPE=image/png:https://springsrv.com/wp-content/uploads/2024/05/Kids-Club.png
ORGANIZER;CN="Springs RV Social":MAILTO:events@springsrv.com
END:VEVENT
BEGIN:VEVENT
DTSTART;TZID=America/Vancouver:20240519T183000
DTEND;TZID=America/Vancouver:20240519T193000
DTSTAMP:20260425T183651
CREATED:20240503T223248Z
LAST-MODIFIED:20240505T220957Z
UID:5070-1716143400-1716147000@springsrv.com
SUMMARY:Bingo Night
DESCRIPTION:
URL:https://springsrv.com/event/bingo-night/
LOCATION:Social Pavilion\, 670 Hot Springs Rd.\, Harrison Hot Springs\, British Columbia\, V0M 1K0\, Canada
ATTACH;FMTTYPE=image/png:https://springsrv.com/wp-content/uploads/2024/05/Screen-Shot-2024-05-05-at-2.15.12-PM.png
ORGANIZER;CN="Springs RV Social":MAILTO:events@springsrv.com
END:VEVENT
BEGIN:VEVENT
DTSTART;TZID=America/Vancouver:20240512T100000
DTEND;TZID=America/Vancouver:20240512T113000
DTSTAMP:20260425T183651
CREATED:20240504T032153Z
LAST-MODIFIED:20240505T210224Z
UID:5085-1715508000-1715513400@springsrv.com
SUMMARY:Mother's Day Brunch
DESCRIPTION:
URL:https://springsrv.com/event/monthers-day-brunch/
LOCATION:Social Pavilion\, 670 Hot Springs Rd.\, Harrison Hot Springs\, British Columbia\, V0M 1K0\, Canada
ATTACH;FMTTYPE=image/png:https://springsrv.com/wp-content/uploads/2024/05/Screen-Shot-2024-05-05-at-2.00.49-PM.png
ORGANIZER;CN="Springs RV Social":MAILTO:events@springsrv.com
END:VEVENT
BEGIN:VEVENT
DTSTART;TZID=America/Vancouver:20240511T100000
DTEND;TZID=America/Vancouver:20240511T110000
DTSTAMP:20260425T183651
CREATED:20240504T033200Z
LAST-MODIFIED:20240505T204540Z
UID:5092-1715421600-1715425200@springsrv.com
SUMMARY:Mother's Day Kids Craft
DESCRIPTION:
URL:https://springsrv.com/event/monthers-day-kids-craft/
LOCATION:Social Pavilion\, 670 Hot Springs Rd.\, Harrison Hot Springs\, British Columbia\, V0M 1K0\, Canada
ATTACH;FMTTYPE=image/png:https://springsrv.com/wp-content/uploads/2024/05/Screen-Shot-2024-05-05-at-1.44.42-PM.png
ORGANIZER;CN="Springs RV Social":MAILTO:events@springsrv.com
END:VEVENT
END:VCALENDAR